Workbook

Sheet общ с форм
F7: ИТОГИ
B8: социально-экономического развития Большеигнатовского муниципального района за январь - ноябрь 2016 года
A9: № | B9: Наименование показателя | C9: Ед. измер. | D9: План на 2016 год | E9: С начала года | J9: =[1]собст_д_ды!G4 -> ноябрь
E10: план | F10: факт | G10: % | H10: 2015 | I10: темп роста | J10: план | K10: факт | L10: % | M10: 2015 | N10: темп роста
A14: 1 | B14: Собственные доходы - всего | C14: тыс. руб. | D14: 25839.3 | E14: =[1]собст_д_ды!B23 -> 25527.4 | F14: =[1]собст_д_ды!C23 -> 25064.9 | G14: =IF(F14=0,0,F14/E14*100) -> 98.188221 | H14: =[1]собст_д_ды!E23 -> 23477.3 | I14: =F14/H14*100 -> 106.76228 | J14: =[1]собст_д_ды!G23 -> 3039.9 | K14: =[1]собст_д_ды!H23 -> 3280.1 | L14: =IF(K14=0,0,K14/J14*100) -> 107.90158 | M14: =[1]собст_д_ды!J23 -> 2502.9 | N14: =K14/M14*100 -> 131.05198
A15: 2 | B15: Розничный товарооборот во всех каналах реализации | C15: тыс. руб. | D15: 487201 | E15: =[1]розн_т_об!B19 -> 443799 | F15: =[1]розн_т_об!C19 -> 347233 | G15: =IF(F15=0,0,F15/E15*100) -> 78.241051 | H15: =[1]розн_т_об!E19 -> 403122 | I15: =F15/H15%/107.4% -> 80.201079 | J15: =[1]розн_т_об!G19 -> 41590 | K15: =[1]розн_т_об!H19 -> 30374 | L15: =IF(K15=0,0,K15/J15*100) -> 73.031979 | M15: =[1]розн_т_об!J19 -> 35576 | N15: =K15/M15%/106.5% -> 80.166932
A16: 3 | B16: Закуп молока - всего | C16: тонн | D16: =D17+D18 -> 6900 | E16: =[1]молоко_всего!B19 -> 6460 | F16: =[1]молоко_всего!C19 -> 7092.3 | G16: =IF(F16=0,0,F16/E16*100) -> 109.78793 | H16: =[1]молоко_всего!E19 -> 6395.9 | I16: =F16/H16*100 -> 110.88823 | J16: =[1]молоко_всего!G19 -> 460 | K16: =[1]молоко_всего!H19 -> 453.1 | L16: =IF(K16=0,0,K16/J16*100) -> 98.5 | M16: =[1]молоко_всего!J19 -> 452.8 | N16: =K16/M16*100 -> 100.06625
B17: в т.ч. -- обществ.сект. | C17: тонн | D17: 6900 | E17: =[1]молоко_СПК!B18 -> 6460 | F17: =[1]молоко_СПК!C18 -> 7035.6 | G17: =IF(F17=0,0,F17/E17*100) -> 108.91022 | H17: =[1]молоко_СПК!E18 -> 6227.3 | I17: =F17/H17*100 -> 112.97994 | J17: =[1]молоко_СПК!G18 -> 460 | K17: =[1]молоко_СПК!H18 -> 453.1 | L17: =IF(K17=0,0,K17/J17*100) -> 98.5 | M17: =[1]молоко_СПК!J18 -> 446.6 | N17: =K17/M17*100 -> 101.45544
B18: -- население | C18: тонн | D18: 0 | E18: =[1]молоко_советы!B19 -> 0 | F18: =[1]молоко_советы!C19 -> 56.7 | G18: =IF(F18=0,0,F18/E18*100) -> #DIV/0! | H18: =[1]молоко_советы!E19 -> 168.6 | I18: =F18/H18*100 -> 33.629893 | J18: =[1]молоко_советы!G19 -> 0 | K18: =[1]молоко_советы!H19 -> 0 | L18: =IF(K18=0,0,K18/J18*100) -> 0 | M18: =[1]молоко_советы!J19 -> 6.2 | N18: =K18/M18*100 -> 0
A19: 4 | B19: Закуп мяса в ж/в- всего | C19: тонн | D19: =D20+D21 -> 537 | E19: =[1]мясо_всего!B19 -> 492 | F19: =[1]мясо_всего!C19 -> 246.8 | G19: =IF(F19=0,0,F19/E19*100) -> 50.162602 | H19: =[1]мясо_всего!E19 -> 443.6 | I19: =F19/H19*100 -> 55.635708 | J19: =[1]мясо_всего!G19 -> 47 | K19: =[1]мясо_всего!H19 -> 12.5 | L19: =IF(K19=0,0,K19/J19*100) -> 26.595745 | M19: =[1]мясо_всего!J19 -> 91.3 | N19: =K19/M19*100 -> 13.691128
B20: в т.ч. -- обществ.сект. | C20: тонн | D20: 537 | E20: =[1]мясо_СПК!B20 -> 492 | F20: =[1]мясо_СПК!C20 -> 237.1 | G20: =IF(F20=0,0,F20/E20*100) -> 48.191057 | H20: =[1]мясо_СПК!E20 -> 438.8 | I20: =F20/H20*100 -> 54.033728 | J20: =[1]мясо_СПК!G20 -> 47 | K20: =[1]мясо_СПК!H20 -> 12 | L20: =IF(K20=0,0,K20/J20*100) -> 25.531915 | M20: =[1]мясо_СПК!J20 -> 90.8 | N20: =K20/M20*100 -> 13.215859
B21: -- население | C21: тонн | D21: 0 | E21: =[1]мясо_советы!B19 -> 0 | F21: =[1]мясо_советы!C19 -> 9.7 | G21: =IF(F21=0,0,F21/E21*100) -> #DIV/0! | H21: =[1]мясо_советы!E19 -> 4.8 | I21: =F21/H21*100 -> 202.08333 | J21: =[1]мясо_советы!G19 -> 0 | K21: =[1]мясо_советы!H19 -> 0.5 | L21: =IF(K21=0,0,K21/J21*100) -> #DIV/0! | M21: =[1]мясо_советы!J19 -> 0.5 | N21: =K21/M21*100 -> 100
A22: 5 | B22: Объем отгруж. продукции промышл. пр-ва | C22: тыс. руб. | D22: =D23+D24+D25 -> 12100 | E22: =E23+E24+E25 -> 10050 | F22: =F23+F24+F25 -> 14210.8 | G22: =IF(F22=0,0,F22/E22*100) -> 141.401 | H22: =H23+H24+H25 -> 11708.3 | I22: =F22/H22*100 -> 121.37373 | J22: =J23+J24+J25 -> 1851 | K22: =K23+K24+K25 -> 1831.1 | L22: =IF(K22=0,0,K22/J22*100) -> 98.924905 | M22: =M23+M24+M25 -> 1321.2 | N22: =K22/M22*100 -> 138.5937
B23: АНО " Редакция газеты "Восход" | C23: тыс. руб. | D23: 1267 | E23: 1169 | F23: 1328 | G23: =F23/E23% -> 113.60137 | H23: 1059 | I23: =F23/H23*100 -> 125.40132 | J23: 100 | K23: 116 | L23: =K23/J23% -> 116 | M23: 91 | N23: =K23/M23% -> 127.47253
B24: ООО "Системы жизнеобеспечения РМ" | C24: тыс. руб. | D24: 5718 | E24: 5105 | F24: 4819.7 | G24: =F24/E24% -> 94.411361 | H24: 4979 | I24: =F24/H24*100 -> 96.800562 | J24: 546 | K24: 573.8 | L24: =K24/J24% -> 105.09158 | M24: 537.8 | N24: =K24/M24% -> 106.69394
B25: МУП " Жилищник" | C25: тыс. руб. | D25: 5115 | E25: 3776 | F25: 8063.1 | G25: =F25/E25% -> 213.53549 | H25: 5670.3 | I25: =F25/H25*100 -> 142.19883 | J25: 1205 | K25: 1141.3 | L25: =K25/J25% -> 94.713693 | M25: 692.4 | N25: =K25/M25% -> 164.83247
A26: 6 | B26: Общая площадь введенного в эксплуатацию жилья с учетом индивидуального жилищного строительства | C26: кв.м. | D26: 1600 | E26: =[1]Жилье!B18 -> 277 | F26: =[1]Жилье!C18 -> 560.9 | G26: =F26/E26*100 -> 202.49097 | H26: 930 | I26: =F26/H26*100 -> 60.311828 | M26: .
A27: 7 | B27: Реализация алкогольной продукции производства РМ | C27: дал | D27: 4565 | E27: =[1]водка!B19 -> 4197 | F27: =[1]водка!C19 -> 1969.9 | G27: =F27/E27*100 -> 46.935907 | H27: =[1]водка!E19 -> 2497.2 | I27: =F27/H27*100 -> 78.88435 | J27: =[1]водка!G19 -> 331 | K27: =[1]водка!H19 -> 161.8 | L27: =K27/J27*100 -> 48.882175 | M27: =[1]водка!J19 -> 225.8 | N27: =K27/M27*100 -> 71.656333
A31: 8 | B31: Объем поставок сахарной свеклы | C31: тонн | D31: 74280 | E31: =[1]Свекла!B15 -> 51082 | F31: =[1]Свекла!C15 -> 69401 | G31: =[1]Свекла!D15 -> 135.86195 | H31: =[1]Свекла!E15 -> 54081 | I31: =[1]Свекла!F15 -> 128.32788
A32: 9 | B32: Производство зерна в первоначальном весе | C32: тонн | D32: 32800 | E32: ='[1]пр_во зерна'!B19 -> 32800 | F32: ='[1]пр_во зерна'!C19 -> 29338.9 | G32: ='[1]пр_во зерна'!D19 -> 89.447866 | H32: ='[1]пр_во зерна'!E19 -> 28472.5 | I32: ='[1]пр_во зерна'!F19 -> 103.04294
A33: 10 | B33: Численность работников, принятых на дополнительно введенные (созданные) рабочие места | C33: человек | G33: =F33/E33*100 -> #DIV/0! | I33: =F33/H33*100 -> #DIV/0!
A34: 10 | B34: Объем инвестиций в основной капитал (за исключением бюджетных средств) | C34: тыс. руб. | D34: 56000 | E34: 35500 | F34: 39445 | G34: =F34/E34*100 -> 111.11268 | I34: =F34/H34*100 -> #DIV/0!
