Workbook

Sheet общ с форм
F7: ИТОГИ
B8: социально-экономического развития Большеигнатовского района за январь - июнь 2017 года
A9: № | B9: Наименование показателя | C9: Ед.изм. | D9: План на 2017 год | E9: С начала года | J9: =[1]собст_д_ды!G4 -> в т.ч. июнь
E10: план | F10: факт | G10: % | H10: 2016 | I10: темп роста | J10: план | K10: факт | L10: % | M10: 2016 | N10: темп роста
A14: 1 | B14: Собственные доходы - всего: | C14: тыс. руб. | D14: 23643.3 | E14: =[1]собст_д_ды!B23 -> 11495.6 | F14: =[1]собст_д_ды!C23 -> 11716.1 | G14: =IF(F14=0,0,F14/E14*100) -> 101.91813 | H14: =[1]собст_д_ды!E23 -> 12699.8 | I14: =F14/H14*100 -> 92.254209 | J14: =[1]собст_д_ды!G23 -> 2247.1 | K14: =[1]собст_д_ды!H23 -> 2385.6 | L14: =IF(K14=0,0,K14/J14*100) -> 106.1635 | M14: =[1]собст_д_ды!J23 -> 1994.4 | N14: =K14/M14*100 -> 119.61492
A15: 2 | B15: Розничный товарооборот во всех каналах реализации | C15: тыс. руб. | D15: 409246 | E15: =[1]розн_т_об!B19 -> 189599 | F15: =[1]розн_т_об!C19 -> 163339 | G15: =IF(F15=0,0,F15/E15*100) -> 86.149716 | H15: =[1]розн_т_об!E19 -> 184001 | I15: =F15/H15*100 -> 88.770713 | J15: =[1]розн_т_об!G19 -> 34061 | K15: =[1]розн_т_об!H19 -> 28678 | L15: =IF(K15=0,0,K15/J15*100) -> 84.196001 | M15: =[1]розн_т_об!J19 -> 32558 | N15: =K15/M15*100 -> 88.082806
A16: 3 | B16: Закуп молока - всего: | C16: тонн | D16: 7733 | E16: =[1]молоко_всего!B19 -> 4000 | F16: =[1]молоко_всего!C19 -> 3394.6 | G16: =IF(F16=0,0,F16/E16*100) -> 84.865 | H16: =[1]молоко_всего!E19 -> 4089.7 | I16: =F16/H16*100 -> 83.003643 | J16: =[1]молоко_всего!G19 -> 857 | K16: =[1]молоко_всего!H19 -> 716.6 | L16: =IF(K16=0,0,K16/J16*100) -> 83.61727 | M16: =[1]молоко_всего!J19 -> 845.9 | N16: =K16/M16*100 -> 84.714505
B17: в т.ч. -- обществ.сект. | C17: тонн | D17: 7733 | E17: =[1]молоко_СПК!B19 -> 4000 | F17: =[1]молоко_СПК!C19 -> 3394.6 | G17: =IF(F17=0,0,F17/E17*100) -> 84.865 | H17: =[1]молоко_СПК!E19 -> 4066.1 | I17: =F17/H17*100 -> 83.485404 | J17: =[1]молоко_СПК!G19 -> 857 | K17: =[1]молоко_СПК!H19 -> 716.6 | L17: =IF(K17=0,0,K17/J17*100) -> 83.61727 | M17: =[1]молоко_СПК!J19 -> 845.9 | N17: =K17/M17*100 -> 84.714505
B18: -- население | C18: тонн | E18: =[1]молоко_советы!B19 -> 0 | F18: =[1]молоко_советы!C19 -> 0 | G18: =IF(F18=0,0,F18/E18*100) -> 0 | H18: =[1]молоко_советы!E19 -> 23.6 | I18: =F18/H18*100 -> 0 | J18: =[1]молоко_советы!G19 -> 0 | K18: =[1]молоко_советы!H19 -> 0 | L18: =IF(K18=0,0,K18/J18*100) -> 0 | M18: =[1]молоко_советы!J19 -> 0 | N18: =K18/M18*100 -> #DIV/0!
A19: 4 | B19: Закуп мяса в ж/в- всего: | C19: тонн | D19: 270 | E19: =[1]мясо_всего!B19 -> 157 | F19: =[1]мясо_всего!C19 -> 180.2 | G19: =IF(F19=0,0,F19/E19*100) -> 114.77707 | H19: =[1]мясо_всего!E19 -> 146.8 | I19: =F19/H19*100 -> 122.75204 | J19: =[1]мясо_всего!G19 -> 19 | K19: =[1]мясо_всего!H19 -> 22.8 | L19: =IF(K19=0,0,K19/J19*100) -> 120 | M19: =[1]мясо_всего!J19 -> 9.2 | N19: =K19/M19*100 -> 247.82609
B20: в т.ч. -- обществ.сект. | C20: тонн | D20: 270 | E20: =[1]мясо_СПК!B21 -> 157 | F20: =[1]мясо_СПК!C21 -> 176.6 | G20: =IF(F20=0,0,F20/E20*100) -> 112.48408 | H20: =[1]мясо_СПК!E21 -> 143.8 | I20: =F20/H20*100 -> 122.80946 | J20: =[1]мясо_СПК!G21 -> 19 | K20: =[1]мясо_СПК!H21 -> 22.7 | L20: =IF(K20=0,0,K20/J20*100) -> 119.47368 | M20: =[1]мясо_СПК!J21 -> 8.6 | N20: =K20/M20*100 -> 263.95349
B21: -- население | C21: тонн | E21: =[1]мясо_советы!B19 -> 0 | F21: =[1]мясо_советы!C19 -> 3.6 | G21: =IF(F21=0,0,F21/E21*100) -> #DIV/0! | H21: =[1]мясо_советы!E19 -> 3 | I21: =F21/H21*100 -> 120 | J21: =[1]мясо_советы!G19 -> 0 | K21: =[1]мясо_советы!H19 -> 0.1 | L21: =IF(K21=0,0,K21/J21*100) -> #DIV/0! | M21: =[1]мясо_советы!J19 -> 0.6 | N21: =K21/M21*100 -> 16.666667
A22: 5 | B22: Объем отгруж. товаров собственного производства: | C22: тыс. руб. | D22: =D24+D25+D23 -> 16588 | E22: =E24+E25+E23 -> 8603 | F22: =F24+F25 -> 8526.9 | G22: =IF(F22=0,0,F22/E22*100) -> 99.115425 | H22: =H24+H25+H23 -> 7889.1 | I22: =F22/H22*100 -> 108.08457 | J22: =J24+J25 -> 763 | K22: =K24+K25 -> 806.4 | L22: =IF(K22=0,0,K22/J22*100) -> 105.68807 | M22: =M24+M25+M23 -> 687.6 | N22: =K22/M22*100 -> 117.27749
B23: АНО "Редакция газеты "Восход" | C23: тыс. руб. | D23: 207 | E23: 207 | G23: =IF(F23=0,0,F23/E23*100) -> 0 | I23: =F23/H23*100 -> #DIV/0! | L23: =IF(K23=0,0,K23/J23*100) -> 0 | N23: =K23/M23*100 -> #DIV/0!
B24: ООО "Системы жизнеобеспечения РМ" | C24: тыс. руб. | D24: 5567 | E24: 2681 | F24: 2770.4 | G24: =F24/E24% -> 103.33458 | H24: 2949.1 | I24: =F24/H24*100 -> 93.940524 | J24: 380 | K24: 391.1 | L24: =K24/J24% -> 102.92105 | M24: 357.2 | N24: =K24/M24% -> 109.49048
B25: МУП "Жилищник" | C25: тыс. руб. | D25: 10814 | E25: 5715 | F25: 5756.5 | G25: =F25/E25% -> 100.72616 | H25: 4940 | I25: =F25/H25*100 -> 116.52834 | J25: 383 | K25: 415.3 | L25: =K25/J25% -> 108.43342 | M25: 330.4 | N25: =K25/M25% -> 125.69613
A26: 6 | B26: Общая площадь введенного в эксплуатацию жилья с учетом индивидуального жилищного строительства | C26: кв.м. | D26: 1650 | E26: 150 | F26: 149.4 | G26: =F26/E26*100 -> 99.6 | H26: 0 | I26: =F26/H26*100 -> #DIV/0! | J26: 0 | M26: .
A27: 7 | B27: Реализация алкогольной продукции производства РМ | C27: дал | D27: 4365 | E27: =[1]водка!B19 -> 2061 | F27: =[1]водка!C19 -> 919.1 | G27: =F27/E27*100 -> 44.594857 | H27: =[1]водка!E19 -> 903.4 | I27: =F27/H27*100 -> 101.73788 | J27: =[1]водка!G19 -> 360 | K27: =[1]водка!H19 -> 151.2 | L27: =K27/J27*100 -> 42 | M27: =[1]водка!J19 -> 139.3 | N27: =K27/M27*100 -> 108.54271
A31: 8 | B31: Объем инвестиций в основной капитал (за исключением бюджетных средств) | C31: тыс. руб. | D31: 136750 | E31: 36750 | F31: 39439 | G31: =F31/E31*100 -> 107.31701 | H31: 31919 | I31: =F31/H31*100 -> 123.55964
