Workbook

Sheet общ с форм
B7: ИТОГИ
B8: социально-экономического развития Большеигнатовского района за январь-декабрь 2018 года
A9: № | B9: Наименование показателя | C9: Ед.изм. | D9: Период | E9: План на 2018 год | F9: С начала года | K9: =[1]собст_д_ды!G4 -> в т.ч. декабрь
F10: план | G10: факт | H10: % | I10: 2017 | J10: темп роста | K10: план | L10: факт | M10: % | N10: 2017 | O10: темп роста
A14: 1 | B14: Собственные доходы - всего: | C14: тыс. руб. | D14: месяц | E14: 25304.9 | F14: =[1]собст_д_ды!B23 -> 25304.9 | G14: =[1]собст_д_ды!C23 -> 25038.9 | H14: =IF(G14=0,0,G14/F14*100) -> 98.94882 | I14: =[1]собст_д_ды!E23 -> 24774.4 | J14: =G14/I14*100 -> 101.06763 | K14: =[1]собст_д_ды!G23 -> 2731.7 | L14: =[1]собст_д_ды!H23 -> 2631.5 | M14: =IF(L14=0,0,L14/K14*100) -> 96.331954 | N14: =[1]собст_д_ды!J23 -> 2671 | O14: =L14/N14*100 -> 98.521153
A15: 2 | B15: Розничный товарооборот во всех каналах реализации | C15: тыс. руб. | D15: месяц | E15: 412663 | F15: =[1]розн_т_об!B19 -> 412663 | G15: =[1]розн_т_об!C19 -> 356492 | H15: =IF(G15=0,0,G15/F15*100) -> 86.388167 | I15: =[1]розн_т_об!E19 -> 402586 | J15: =G15/I15*100 -> 88.550521 | K15: =[1]розн_т_об!G19 -> 40060 | L15: =[1]розн_т_об!H19 -> 32490 | M15: =IF(L15=0,0,L15/K15*100) -> 81.103345 | N15: =[1]розн_т_об!J19 -> 36500 | O15: =L15/N15*100 -> 89.013699
A16: 3 | B16: Реализация алкогольной продукции производства РМ | C16: дал | D16: месяц | E16: 4214 | F16: =[1]водка!B19 -> 4214 | G16: =[1]водка!C19 -> 1723.1 | H16: =IF(G16=0,0,G16/F16*100) -> 40.889891 | I16: =[1]водка!E19 -> 1975.2 | J16: =G16/I16*100 -> 87.236736 | K16: =[1]водка!G19 -> 483 | L16: =[1]водка!H19 -> 174.7 | M16: =[1]водка!I19 -> 36.169772 | N16: =[1]водка!J19 -> 181.6 | O16: #DIV/0!
A17: 4 | B17: Закуп молока - всего: | C17: тонн | D17: месяц | E17: 6730 | F17: =[1]молоко_всего!B19 -> 6730 | G17: =[1]молоко_всего!C19 -> 7072 | H17: =IF(G17=0,0,G17/F17*100) -> 105.08172 | I17: =[1]молоко_всего!E19 -> 6672.8 | J17: =G17/I17*100 -> 105.9825 | K17: =[1]молоко_всего!G19 -> 441 | L17: =[1]молоко_всего!H19 -> 557.9 | M17: =IF(L17=0,0,L17/K17*100) -> 126.50794 | N17: =[1]молоко_всего!J19 -> 520.4 | O17: =L17/N17*100 -> 107.206
B18: в т.ч. -- обществ.сект. | C18: тонн | D18: месяц | E18: 6730 | F18: =[1]молоко_СПК!B17 -> 6730 | G18: =[1]молоко_СПК!C17 -> 7072 | H18: =IF(G18=0,0,G18/F18*100) -> 105.08172 | I18: =[1]молоко_СПК!E17 -> 6672.8 | J18: =G18/I18*100 -> 105.9825 | K18: =[1]молоко_СПК!G17 -> 441 | L18: =[1]молоко_СПК!H17 -> 557.9 | M18: =IF(L18=0,0,L18/K18*100) -> 126.50794 | N18: =[1]молоко_СПК!J17 -> 520.4 | O18: =L18/N18*100 -> 107.206
B19: -- население | C19: тонн | D19: месяц | F19: =[1]молоко_советы!B19 -> 0 | G19: =[1]молоко_советы!C19 -> 0 | H19: =IF(G19=0,0,G19/F19*100) -> 0 | I19: =[1]молоко_советы!E19 -> 0 | J19: =G19/I19*100 -> #DIV/0! | K19: =[1]молоко_советы!G19 -> 0 | L19: =[1]молоко_советы!H19 -> 0 | M19: =IF(L19=0,0,L19/K19*100) -> 0 | N19: =[1]молоко_советы!J19 -> 0 | O19: =L19/N19*100 -> #DIV/0!
A20: 5 | B20: Закуп мяса в ж/в- всего: | C20: тонн | D20: месяц | E20: 306 | F20: =[1]мясо_всего!B19 -> 306 | G20: =[1]мясо_всего!C19 -> 236.9 | H20: =IF(G20=0,0,G20/F20*100) -> 77.418301 | I20: =[1]мясо_всего!E19 -> 287 | J20: =G20/I20*100 -> 82.543554 | K20: =[1]мясо_всего!G19 -> 33 | L20: =[1]мясо_всего!H19 -> 19.4 | M20: =IF(L20=0,0,L20/K20*100) -> 58.787879 | N20: =[1]мясо_всего!J19 -> 12.6 | O20: =L20/N20*100 -> 153.96825
B21: в т.ч. -- обществ.сект. | C21: тонн | D21: месяц | E21: 306 | F21: =[1]мясо_СПК!B22 -> 306 | G21: =[1]мясо_СПК!C22 -> 230.9 | H21: =IF(G21=0,0,G21/F21*100) -> 75.457516 | I21: =[1]мясо_СПК!E22 -> 280.6 | J21: =G21/I21*100 -> 82.287954 | K21: =[1]мясо_СПК!G22 -> 33 | L21: =[1]мясо_СПК!H22 -> 19.3 | M21: =IF(L21=0,0,L21/K21*100) -> 58.484848 | N21: =[1]мясо_СПК!J22 -> 12.5 | O21: =L21/N21*100 -> 154.4
B22: -- население | C22: тонн | D22: месяц | F22: =[1]мясо_советы!B19 -> 0 | G22: =[1]мясо_советы!C19 -> 6 | I22: =[1]мясо_советы!E19 -> 6.4 | J22: =G22/I22*100 -> 93.75 | K22: =[1]мясо_советы!G19 -> 0 | L22: =[1]мясо_советы!H19 -> 0.1 | M22: =L22/K22*100 -> #DIV/0! | N22: =[1]мясо_советы!J19 -> 0.1 | O22: =L22/N22*100 -> 100
A23: 6 | B23: Сохранность поголовья скота во всех категориях хозяйств в перерасчете на условные головы к уровню 01.01.2018 г. ( на 01.01.2019 г.) | C23: % | D23: месяц | E23: 100 | F23: ='[1]сохран.погол. во всех катег.'!C18 -> 100 | G23: ='[1]сохран.погол. во всех катег.'!D18 -> 104.1 | H23: =G23/F23*100 -> 104.1
B24: Сохранность поголовья скота в сельскохозяйственных организациях в перерасчете на условные головы к уровню прошлого года (на 01.01.2019 г.) | C24: % | D24: месяц | E24: 100 | F24: ='[1]сохран.погол. в сель.хоз.'!C18 -> 100 | G24: ='[1]сохран.погол. в сель.хоз.'!D18 -> 104.5 | H24: =G24/F24*100 -> 104.5
A25: 7 | B25: Объем отгруж. товаров собственного производства: | C25: тыс. руб. | D25: месяц | E25: =E26+E27 -> 6494 | F25: =F26+F27 -> 6494 | G25: =G26+G27 -> 6691.5 | H25: =IF(G25=0,0,G25/F25*100) -> 103.04127 | I25: =I26+I27 -> 10298 | J25: =G25/I25*100 -> 64.978637 | K25: =K26+K27 -> 625 | L25: =L26+L27 -> 684.6 | M25: =IF(L25=0,0,L25/K25*100) -> 109.536 | N25: =N26+N27 -> 2087.5 | O25: =L25/N25*100 -> 32.79521
B26: ООО "Системы жизнеобеспечения РМ" | C26: тыс. руб. | D26: месяц | E26: 604 | F26: 604 | G26: 0 | H26: =G26/F26% -> 0 | I26: 0 | J26: =G26/I26*100 -> #DIV/0! | K26: 0 | L26: 0 | M26: =L26/K26% -> #DIV/0! | N26: 0 | O26: =L26/N26% -> #DIV/0!
B27: МУП "Жилищник" | C27: тыс. руб. | D27: месяц | E27: 5890 | F27: 5890 | G27: 6691.5 | H27: =G27/F27% -> 113.60781 | I27: 10298 | J27: =G27/I27*100 -> 64.978637 | K27: 625 | L27: 684.6 | M27: =L27/K27% -> 109.536 | N27: 2087.5 | O27: =L27/N27% -> 32.79521
A28: 8 | B28: Общая площадь введенного в эксплуатацию жилья с учетом индивидуального жилищного строительства | C28: кв.м. | D28: квартал | E28: 500 | F28: =[1]Жилье!B18 -> 500 | G28: =[1]Жилье!C18 -> 514.5 | H28: =G28/F28*100 -> 102.9 | I28: 631 | J28: =G28/I28*100 -> 81.537242 | K28: 0
A29: 9 | B29: Объем инвестиций в основной капитал (за исключением бюджетных средств) | C29: тыс. руб. | D29: квартал | E29: 21500 | F29: 21500 | G29: 36563 | H29: =G29/F29*100 -> 170.06047 | I29: 62055 | J29: =G29/I29*100 -> 58.920313
A30: 10 | B30: Численность жителей старше 14 лет, зарегистрированных в ЕСИА | C30: чел. | D30: квартал | E30: 110 | F30: 110 | G30: 521 | H30: =G30/F30*100 -> 473.63636 | I30: 0 | J30: =G30/I30*100 -> #DIV/0!
A31: 11 | B31: Численность безработных граждан, зарегистрированных в органах службы занятости на конец отчетного периода к концу предыдущего года | C31: чел. | D31: квартал | E31: 74 | F31: =[1]числ.безработ.!C6 -> 74 | G31: =[1]числ.безработ.!D6 -> 74 | H31: =F31/G31*100 -> 100
A32: 12 | B32: Темп роста среднемесячной номинальной начисленной заработной платы за 10 мес. 2018 г. | C32: % | D32: квартал | E32: 110 | F32: 110 | G32: 108 | H32: =G32/F32*100 -> 98.181818
A33: 13 | B33: Темп роста среднемесячной номинальной начисленной заработной платы по крупным и средним предприятиям на 01.01.2019 г. | C33: % | D33: месяц | E33: 110 | F33: 110 | G33: 108.4 | H33: =G33/F33*100 -> 98.545455
A34: 14 | B34: Проведение информационно-разъяснительной работы среди населения о необходимости участия собственников жилья в реализации программы "Переселение граждан из аварийного жилищного фонда капитального ремонта МКД, в том числе с участием средств НО "Республиканский Фонд капитального ремонта МКД" | C34: не менее 1 публикации в СМИ в квартал | D34: квартал | E34: 4 | F34: ='[1]учас. в прогр.по переселению'!C7 -> 4 | G34: ='[1]учас. в прогр.по переселению'!D7 -> 4 | H34: =G34/F34*100 -> 100
A35: 15 | B35: Проведение информационно-разъяснительной работы среди населения о необходимости оплаты взносов за кап.ремонт общего имущества МКД и жилого фонда" | C35: не менее 1 публикации в СМИ в квартал | D35: квартал | E35: 4 | F35: ='[1]учас. в прогр.по МКД'!C7 -> 4 | G35: ='[1]учас. в прогр.по МКД'!D7 -> 4 | H35: =G35/F35*100 -> 100
