Workbook

Sheet общ с форм
B7: ИТОГИ
B8: социально-экономического развития Большеигнатовского района за январь - март 2019 года
A9: № | B9: Наименование показателя | C9: Ед.изм. | D9: Период | E9: План на 2019 год | F9: С начала года | K9: =[1]собст_д_ды!G4 -> в т.ч. март
F10: план | G10: факт | H10: % | I10: 2018 | J10: темп роста | K10: план | L10: факт | M10: % | N10: 2018 | O10: темп роста
A14: 1 | B14: Собственные доходы - всего: | C14: тыс. руб. | D14: месяц | E14: 23853.5 | F14: =[1]собст_д_ды!B23 -> 5600.9 | G14: =[1]собст_д_ды!C23 -> 5734.4 | H14: =IF(G14=0,0,G14/F14*100) -> 102.38355 | I14: =[1]собст_д_ды!E23 -> 5383.9 | J14: =G14/I14*100 -> 106.51015 | K14: =[1]собст_д_ды!G23 -> 2043.2 | L14: =[1]собст_д_ды!H23 -> 2021.2 | M14: =IF(L14=0,0,L14/K14*100) -> 98.923258 | N14: =[1]собст_д_ды!J23 -> 2153.1 | O14: =L14/N14*100 -> 93.873949
A15: 2 | B15: Розничный товарооборот во всех каналах реализации | C15: тыс. руб. | D15: месяц | E15: 386489 | F15: =[1]розн_т_об!B19 -> 85414 | G15: =[1]розн_т_об!C19 -> 75557 | H15: =IF(G15=0,0,G15/F15*100) -> 88.459737 | I15: =[1]розн_т_об!E19 -> 84669 | J15: =G15/I15*100 -> 89.238092 | K15: =[1]розн_т_об!G19 -> 29633 | L15: =[1]розн_т_об!H19 -> 26257 | M15: =IF(L15=0,0,L15/K15*100) -> 88.607296 | N15: =[1]розн_т_об!J19 -> 28697 | O15: =L15/N15*100 -> 91.497369
A16: 3 | B16: Реализация алкогольной продукции производства РМ | C16: дал | D16: месяц | E16: 3871 | F16: =[1]водка!B19 -> 870 | G16: =[1]водка!C19 -> 563.4 | H16: =IF(G16=0,0,G16/F16*100) -> 64.758621 | I16: =[1]водка!E19 -> 471.9 | J16: =G16/I16*100 -> 119.3897 | K16: =[1]водка!G19 -> 327 | L16: =[1]водка!H19 -> 184 | M16: =[1]водка!I19 -> 56.269113 | N16: =[1]водка!J19 -> 166 | O16: #DIV/0!
A17: 4 | B17: Закуп молока - всего: | C17: тонн | D17: месяц | E17: 7115 | F17: =[1]молоко_всего!B19 -> 1754 | G17: =[1]молоко_всего!C19 -> 2006.1 | H17: =IF(G17=0,0,G17/F17*100) -> 114.37286 | I17: =[1]молоко_всего!E19 -> 1722 | J17: =G17/I17*100 -> 116.49826 | K17: =[1]молоко_всего!G19 -> 677 | L17: =[1]молоко_всего!H19 -> 746.2 | M17: =IF(L17=0,0,L17/K17*100) -> 110.22157 | N17: =[1]молоко_всего!J19 -> 661.9 | O17: =L17/N17*100 -> 112.73606
B18: в т.ч. -- обществ.сект. | C18: тонн | D18: месяц | E18: 7115 | F18: =[1]молоко_СПК!B18 -> 1754 | G18: =[1]молоко_СПК!C18 -> 2006.1 | H18: =IF(G18=0,0,G18/F18*100) -> 114.37286 | I18: =[1]молоко_СПК!E18 -> 1722 | J18: =G18/I18*100 -> 116.49826 | K18: =[1]молоко_СПК!G18 -> 677 | L18: =[1]молоко_СПК!H18 -> 746.2 | M18: =IF(L18=0,0,L18/K18*100) -> 110.22157 | N18: =[1]молоко_СПК!J18 -> 661.9 | O18: =L18/N18*100 -> 112.73606
B19: -- население | C19: тонн | D19: месяц | F19: =[1]молоко_советы!B19 -> 0 | G19: =[1]молоко_советы!C19 -> 0 | H19: =IF(G19=0,0,G19/F19*100) -> 0 | I19: =[1]молоко_советы!E19 -> 0 | J19: =G19/I19*100 -> #DIV/0! | K19: =[1]молоко_советы!G19 -> 0 | L19: =[1]молоко_советы!H19 -> 0 | M19: =IF(L19=0,0,L19/K19*100) -> 0 | N19: =[1]молоко_советы!J19 -> 0 | O19: =L19/N19*100 -> #DIV/0!
A20: 5 | B20: Закуп мяса в ж/в- всего: | C20: тонн | D20: месяц | E20: 240 | F20: =[1]мясо_всего!B19 -> 58 | G20: =[1]мясо_всего!C19 -> 35.1 | H20: =IF(G20=0,0,G20/F20*100) -> 60.517241 | I20: =[1]мясо_всего!E19 -> 56.8 | J20: =G20/I20*100 -> 61.795775 | K20: =[1]мясо_всего!G19 -> 22 | L20: =[1]мясо_всего!H19 -> 8 | M20: =IF(L20=0,0,L20/K20*100) -> 36.363636 | N20: =[1]мясо_всего!J19 -> 20.7 | O20: =L20/N20*100 -> 38.647343
B21: в т.ч. -- обществ.сект. | C21: тонн | D21: месяц | E21: 240 | F21: =[1]мясо_СПК!B22 -> 58 | G21: =[1]мясо_СПК!C22 -> 35.1 | H21: =IF(G21=0,0,G21/F21*100) -> 60.517241 | I21: =[1]мясо_СПК!E22 -> 55.7 | J21: =G21/I21*100 -> 63.016158 | K21: =[1]мясо_СПК!G22 -> 22 | L21: =[1]мясо_СПК!H22 -> 8 | M21: =IF(L21=0,0,L21/K21*100) -> 36.363636 | N21: =[1]мясо_СПК!J22 -> 20.2 | O21: =L21/N21*100 -> 39.60396
B22: -- население | C22: тонн | D22: месяц | F22: =[1]мясо_советы!B19 -> 0 | G22: =[1]мясо_советы!C19 -> 0 | I22: =[1]мясо_советы!E19 -> 1.1 | J22: =G22/I22*100 -> 0 | K22: =[1]мясо_советы!G19 -> 0 | L22: =[1]мясо_советы!H19 -> 0 | M22: =L22/K22*100 -> #DIV/0! | N22: =[1]мясо_советы!J19 -> 0.5 | O22: =L22/N22*100 -> 0
A23: 6 | B23: Сохранность поголовья скота во всех категориях хозяйств в перерасчете на условные головы к уровню 01.01.2019 г. (на 01.04.2019 г.) | C23: % | D23: месяц | E23: 100 | F23: ='[1]сохран.погол. во всех катег.'!C18 -> 100 | G23: ='[1]сохран.погол. во всех катег.'!D18 -> 105.6 | H23: =G23/F23*100 -> 105.6
B24: Сохранность поголовья скота в сельскохозяйственных организациях в перерасчете на условные головы к уровню прошлого года (на 01.04.2019 г.) | C24: % | D24: месяц | E24: 100 | F24: ='[1]сохран.погол. в сель.хоз.'!C18 -> 100 | G24: ='[1]сохран.погол. в сель.хоз.'!D18 -> 110.9 | H24: =G24/F24*100 -> 110.9
A25: 7 | B25: Объем отгруж. товаров собственного производства: | C25: тыс. руб. | D25: месяц | E25: 6466 | F25: =F26 -> 2019 | G25: =G26 -> 1914.4 | H25: =H26 -> 94.819217 | I25: =I26 -> 2280.4 | J25: =J26 -> 83.950184 | K25: =K26 -> 682 | L25: =L26 -> 611 | M25: =M26 -> 89.589443 | ... O25: =O26 -> 66.827081
B26: МУП "Жилищник" | C26: тыс. руб. | D26: месяц | E26: 6466 | F26: 2019 | G26: 1914.4 | H26: =G26/F26% -> 94.819217 | I26: 2280.4 | J26: =G26/I26*100 -> 83.950184 | K26: 682 | L26: 611 | M26: =L26/K26% -> 89.589443 | N26: 914.3 | O26: =L26/N26% -> 66.827081
A27: 8 | B27: Общая площадь введенного в эксплуатацию жилья с учетом индивидуального жилищного строительства | C27: кв.м. | D27: квартал | E27: 510 | F27: =[1]Жилье!B18 -> 0 | G27: =[1]Жилье!C18 -> 0 | H27: =G27/F27*100 -> #DIV/0! | I27: 0 | J27: =G27/I27*100 -> #DIV/0! | K27: 0
A28: 9 | B28: Объем инвестиций в основной капитал (за исключением бюджетных средств) | C28: тыс. руб. | D28: квартал | E28: 22335 | F28: 3100 | G28: 29581 | H28: =G28/F28*100 -> 954.22581 | I28: 4167 | J28: =G28/I28*100 -> 709.88721
A29: 10 | B29: Численность жителей старше 14 лет, зарегистрированных в ЕСИА | C29: чел. | D29: квартал | H29: =G29/F29*100 -> #DIV/0! | J29: =G29/I29*100 -> #DIV/0!
A30: 11 | B30: Численность безработных граждан, зарегистрированных в органах службы занятости на конец отчетного периода к концу предыдущего года | C30: чел. | D30: квартал | E30: 74 | F30: 74 | G30: 81 | H30: =F30/G30*100 -> 91.358025
A31: 12 | B31: Темп роста среднемесячной номинальной начисленной заработной платы по крупным и средним предприятиям (на 01.04.2019 г.) | C31: % | D31: месяц | E31: 110 | F31: 110 | G31: 112.1 | H31: =G31/F31*100 -> 101.90909
A32: 13 | B32: Проведение информационно-разъяснительной работы среди населения о необходимости участия собственников жилья в реализации программы "Переселение граждан из аварийного жилищного фонда капитального ремонта МКД, в том числе с участием средств НО "Республиканский Фонд капитального ремонта МКД" | C32: не менее 1 публикации в СМИ в квартал | D32: квартал | E32: 4 | F32: 1 | G32: 1 | H32: =G32/F32*100 -> 100
A33: 14 | B33: Проведение информационно-разъяснительной работы среди населения о необходимости оплаты взносов за кап.ремонт общего имущества МКД и жилого фонда" | C33: не менее 1 публикации в СМИ в квартал | D33: квартал | E33: 4 | F33: 1 | G33: 1 | H33: =G33/F33*100 -> 100
A34: 15 | B34: Доля площади земельных участков, расположенных на территории муниципального образования и учтенных в Едином государственном реестре недвижимости, с границами, установленными в соответствии с требованиями законодательства Российской Федерации, в площади территории такого муниципального образования (без учета земель, покрытых поверхностными водными объектами, земель лесного фонда и земель запаса) по муниципальным районам и городскому округу Саранск Республики Мордовия | C34: % | D34: месяц | E34: 60 | F34: 56 | G34: 40.11 | H34: =G34/F34*100 -> 71.625 | K34: 56 | L34: 40.11 | M34: =L34/K34% -> 71.625
