Workbook

Sheet общ с форм
B7: ИТОГИ
B8: социально-экономического развития Большеигнатовского района за январь - декабрь 2019 года
A9: № | B9: Наименование показателя | C9: Ед.изм. | D9: Период | E9: План на 2019 год | F9: С начала года | K9: =[1]собст_д_ды!G4 -> в т.ч. декабрь
F10: план | G10: факт | H10: % | I10: 2018 | J10: темп роста | K10: план | L10: факт | M10: % | N10: 2018 | O10: темп роста
A14: 1 | B14: Собственные доходы - всего: | C14: тыс. руб. | D14: месяц | E14: 27159.6 | F14: 27159.6 | G14: =[1]собст_д_ды!C22 -> 28032.4 | H14: =IF(G14=0,0,G14/F14*100) -> 103.2136 | I14: =[1]собст_д_ды!E22 -> 24700.8 | J14: =G14/I14*100 -> 113.48782 | K14: 3520.1 | L14: =[1]собст_д_ды!H22 -> 3472.1 | M14: =IF(L14=0,0,L14/K14*100) -> 98.636402 | N14: =[1]собст_д_ды!J22 -> 2580.5 | O14: =L14/N14*100 -> 134.55144
A15: 2 | B15: Розничный товарооборот во всех каналах реализации | C15: тыс. руб. | D15: месяц | E15: 386489 | F15: =[1]розн_т_об!B19 -> 386489 | G15: =[1]розн_т_об!C19 -> 340151 | H15: =IF(G15=0,0,G15/F15*100) -> 88.010526 | I15: =[1]розн_т_об!E19 -> 356492 | J15: =G15/I15*100 -> 95.416166 | K15: =[1]розн_т_об!G19 -> 38782 | L15: =[1]розн_т_об!H19 -> 31353 | M15: =IF(L15=0,0,L15/K15*100) -> 80.844206 | N15: =[1]розн_т_об!J19 -> 32490 | O15: =L15/N15*100 -> 96.500462
A16: 3 | B16: Реализация алкогольной продукции производства РМ | C16: дал | D16: месяц | E16: 3871 | F16: =[1]водка!B19 -> 3871 | G16: =[1]водка!C19 -> 2242.5 | H16: =IF(G16=0,0,G16/F16*100) -> 57.930767 | I16: =[1]водка!E19 -> 1723.1 | J16: =G16/I16*100 -> 130.14335 | K16: =[1]водка!G19 -> 362 | L16: =[1]водка!H19 -> 184.4 | M16: =[1]водка!I19 -> 50.939227 | N16: =[1]водка!J19 -> 174.7 | O16: #DIV/0!
A17: 4 | B17: Закуп молока - всего: | C17: тонн | D17: месяц | E17: 7473 | F17: =[1]молоко_всего!B19 -> 7473 | G17: =[1]молоко_всего!C19 -> 8807.1 | H17: =IF(G17=0,0,G17/F17*100) -> 117.85227 | I17: =[1]молоко_всего!E19 -> 7072 | J17: =G17/I17*100 -> 124.53479 | K17: =[1]молоко_всего!G19 -> 528 | L17: =[1]молоко_всего!H19 -> 792.7 | M17: =IF(L17=0,0,L17/K17*100) -> 150.13258 | N17: =[1]молоко_всего!J19 -> 557.9 | O17: =L17/N17*100 -> 142.0864
B18: в т.ч. -- обществ.сект. | C18: тонн | D18: месяц | E18: 7473 | F18: =[1]молоко_СПК!B18 -> 7473 | G18: =[1]молоко_СПК!C18 -> 8807.1 | H18: =IF(G18=0,0,G18/F18*100) -> 117.85227 | I18: =[1]молоко_СПК!E18 -> 7072 | J18: =G18/I18*100 -> 124.53479 | K18: =[1]молоко_СПК!G18 -> 528 | L18: =[1]молоко_СПК!H18 -> 792.7 | M18: =IF(L18=0,0,L18/K18*100) -> 150.13258 | N18: =[1]молоко_СПК!J18 -> 557.9 | O18: =L18/N18*100 -> 142.0864
B19: -- население | C19: тонн | D19: месяц | F19: =[1]молоко_советы!B19 -> 0 | G19: =[1]молоко_советы!C19 -> 0 | H19: =IF(G19=0,0,G19/F19*100) -> 0 | I19: =[1]молоко_советы!E19 -> 0 | J19: =G19/I19*100 -> #DIV/0! | K19: =[1]молоко_советы!G19 -> 0 | L19: =[1]молоко_советы!H19 -> 0 | M19: =IF(L19=0,0,L19/K19*100) -> 0 | N19: =[1]молоко_советы!J19 -> 0 | O19: =L19/N19*100 -> #DIV/0!
A20: 5 | B20: Закуп мяса в ж/в- всего: | C20: тонн | D20: месяц | E20: 240 | F20: =[1]мясо_всего!B19 -> 240 | G20: =[1]мясо_всего!C19 -> 166.5 | H20: =IF(G20=0,0,G20/F20*100) -> 69.375 | I20: =[1]мясо_всего!E19 -> 236.9 | J20: =G20/I20*100 -> 70.28282 | K20: =[1]мясо_всего!G19 -> 13 | L20: =[1]мясо_всего!H19 -> 11.8 | M20: =IF(L20=0,0,L20/K20*100) -> 90.769231 | N20: =[1]мясо_всего!J19 -> 19.4 | O20: =L20/N20*100 -> 60.824742
B21: в т.ч. -- обществ.сект. | C21: тонн | D21: месяц | E21: 240 | F21: =[1]мясо_СПК!B22 -> 240 | G21: =[1]мясо_СПК!C22 -> 163.5 | H21: =IF(G21=0,0,G21/F21*100) -> 68.125 | I21: =[1]мясо_СПК!E22 -> 230.9 | J21: =G21/I21*100 -> 70.809874 | K21: =[1]мясо_СПК!G22 -> 13 | L21: =[1]мясо_СПК!H22 -> 11.3 | M21: =IF(L21=0,0,L21/K21*100) -> 86.923077 | N21: =[1]мясо_СПК!J22 -> 19.3 | O21: =L21/N21*100 -> 58.549223
B22: -- население | C22: тонн | D22: месяц | F22: =[1]мясо_советы!B19 -> 0 | G22: =[1]мясо_советы!C19 -> 3 | I22: =[1]мясо_советы!E19 -> 6 | J22: =G22/I22*100 -> 50 | K22: =[1]мясо_советы!G19 -> 0 | L22: =[1]мясо_советы!H19 -> 0.5 | M22: =L22/K22*100 -> #DIV/0! | N22: =[1]мясо_советы!J19 -> 0.1 | O22: =L22/N22*100 -> 500
A23: 6 | B23: Сохранность поголовья скота во всех категориях хозяйств в перерасчете на условные головы к уровню 01.01.2019 г. (на 01.01.2020 г.) | C23: % | D23: месяц | E23: 100 | F23: ='[1]сохран.погол. во всех катег.'!C18 -> 100 | G23: 113.5 | H23: =G23/F23*100 -> 113.5
B24: Сохранность поголовья скота в сельскохозяйственных организациях в перерасчете на условные головы к уровню прошлого года (на 01.01.2020 г.) | C24: % | D24: месяц | E24: 100 | F24: ='[1]сохран.погол. в сель.хоз.'!C18 -> 100 | G24: ='[1]сохран.погол. в сель.хоз.'!D18 -> 116.6 | H24: =G24/F24*100 -> 116.6
A25: 7 | B25: Объем отгруж. товаров собственного производства: | C25: тыс. руб. | D25: месяц | E25: =E26+E27 -> 6466 | F25: =F26+F27 -> 6466 | G25: =G26+G27 -> 12952.9 | H25: =G25/F25*100 -> 200.32323 | I25: =I26+I27 -> 6683.5 | J25: =G25/I25*100 -> 193.80414 | K25: =K26+K27 -> 720 | L25: =L26+L27 -> 1328.3 | M25: =L25/K25*100 -> 184.48611 | N25: =N26+N27 -> 684.6 | O25: =L25/N25*100 -> 194.02571
B26: МУП "Жилищник" | C26: тыс. руб. | D26: месяц | E26: 6466 | F26: 6466 | G26: 5276.9 | H26: =G26/F26% -> 81.60996 | I26: 6683.5 | J26: =G26/I26*100 -> 78.954141 | K26: 720 | L26: 612.3 | M26: =L26/K26% -> 85.041667 | N26: 684.6 | O26: =L26/N26% -> 89.439089
B27: Большеигнатовский РЭС | C27: тыс. руб. | D27: месяц | G27: 7676 | H27: =G27/F27% -> #DIV/0! | J27: =G27/I27*100 -> #DIV/0! | L27: 716 | M27: =L27/K27% -> #DIV/0! | O27: =L27/N27% -> #DIV/0!
A28: 8 | B28: Общая площадь введенного в эксплуатацию жилья с учетом индивидуального жилищного строительства | C28: кв.м. | D28: квартал | E28: 510 | F28: =[1]Жилье!B18 -> 510 | G28: =[1]Жилье!C18 -> 526.6 | H28: =G28/F28*100 -> 103.2549 | I28: 514.5 | J28: =G28/I28*100 -> 102.3518 | K28: 0
A29: 9 | B29: Объем инвестиций в основной капитал (за исключением бюджетных средств) | C29: тыс. руб. | D29: квартал | E29: 22335 | F29: 22335 | G29: 60856 | H29: =G29/F29*100 -> 272.46922 | I29: 36563 | J29: =G29/I29*100 -> 166.44148
A30: 10 | B30: Численность жителей старше 14 лет, зарегистрированных в ЕСИА | C30: чел. | D30: квартал | H30: =G30/F30*100 -> #DIV/0! | J30: =G30/I30*100 -> #DIV/0!
A31: 11 | B31: Численность безработных граждан, зарегистрированных в органах службы занятости на конец отчетного периода к концу предыдущего года | C31: чел. | D31: квартал | E31: 74 | F31: 74 | G31: 81 | H31: =F31/G31*100 -> 91.358025
A32: 10 | B32: Темп роста среднемесячной номинальной начисленной заработной платы по крупным и средним предприятиям (на 01.01.2020 г.) | C32: % | D32: месяц | E32: 110 | F32: 110 | G32: 113.2 | H32: =G32/F32*100 -> 102.90909
A33: 11 | B33: Проведение информационно-разъяснительной работы среди населения о необходимости участия собственников жилья в реализации программы "Переселение граждан из аварийного жилищного фонда капитального ремонта МКД, в том числе с участием средств НО "Республиканский Фонд капитального ремонта МКД" | C33: не менее 1 публикации в СМИ в квартал | D33: квартал | E33: 4 | F33: 4 | G33: 4 | H33: =G33/F33*100 -> 100
A34: 12 | B34: Проведение информационно-разъяснительной работы среди населения о необходимости оплаты взносов за кап.ремонт общего имущества МКД и жилого фонда" | C34: не менее 1 публикации в СМИ в квартал | D34: квартал | E34: 4 | F34: 4 | G34: 4 | H34: =G34/F34*100 -> 100
A35: 13 | B35: Доля площади земельных участков, расположенных на территории муниципального образования и учтенных в Едином государственном реестре недвижимости, с границами, установленными в соответствии с требованиями законодательства Российской Федерации, в площади территории такого муниципального образования (без учета земель, покрытых поверхностными водными объектами, земель лесного фонда и земель запаса) по муниципальным районам и городскому округу Саранск Республики Мордовия | C35: % | D35: месяц | E35: 60 | H35: =G35/F35*100 -> #DIV/0! | M35: =L35/K35% -> #DIV/0!
