Workbook

Sheet общ с форм
B7: ИТОГИ
B8: социально-экономического развития Большеигнатовского района за январь -февраль 2020 года
A9: № | B9: Наименование показателя | C9: Ед.изм. | D9: Период | E9: План на 2020 год | F9: С начала года | K9: =[1]собст_д_ды!G4 -> в т.ч. февраль
F10: план | G10: факт | H10: % | I10: 2019 | J10: темп роста | K10: план | L10: факт | M10: % | N10: 2019 | O10: темп роста
A14: 1 | B14: Собственные доходы - всего: | C14: тыс. руб. | D14: месяц | E14: 25508.6 | F14: =[1]собст_д_ды!B20 -> 3396 | G14: =[1]собст_д_ды!C20 -> 4229 | H14: =IF(G14=0,0,G14/F14*100) -> 124.52886 | I14: =[1]собст_д_ды!E20 -> 3713.2 | J14: =G14/I14*100 -> 113.89098 | K14: =[1]собст_д_ды!G20 -> 1476 | L14: =[1]собст_д_ды!H20 -> 1868.9 | M14: =IF(L14=0,0,L14/K14*100) -> 126.61924 | N14: =[1]собст_д_ды!J20 -> 1821.6 | O14: =L14/N14*100 -> 102.59662
A15: 2 | B15: Розничный товарооборот во всех каналах реализации | C15: тыс. руб. | D15: месяц | E15: 352730 | F15: =[1]розн_т_об!B16 -> 47911 | G15: =[1]розн_т_об!C16 -> 53774 | H15: =IF(G15=0,0,G15/F15*100) -> 112.23727 | I15: =[1]розн_т_об!E16 -> 49300 | J15: =G15/I15*100 -> 109.07505 | K15: =[1]розн_т_об!G16 -> 24731 | L15: =[1]розн_т_об!H16 -> 26866 | M15: =IF(L15=0,0,L15/K15*100) -> 108.63289 | N15: =[1]розн_т_об!J16 -> 24018 | O15: =L15/N15*100 -> 111.85777
A16: 3 | B16: Реализация алкогольной продукции производства РМ | C16: дал | D16: месяц | E16: 3757 | F16: =[1]водка!B15 -> 636 | G16: =[1]водка!C15 -> 374.4 | H16: =IF(G16=0,0,G16/F16*100) -> 58.867925 | I16: =[1]водка!E15 -> 379.4 | J16: =G16/I16*100 -> 98.68213 | K16: =[1]водка!G15 -> 308 | L16: =[1]водка!H15 -> 183.1 | M16: =[1]водка!I15 -> 59.448052 | N16: =[1]водка!J15 -> 183.7 | O16: #DIV/0!
A17: 4 | B17: Закуп молока - всего: | C17: тонн | D17: месяц | E17: 9000 | F17: =[1]молоко_всего!B15 -> 1635 | G17: =[1]молоко_всего!C15 -> 1696.8 | H17: =IF(G17=0,0,G17/F17*100) -> 103.77982 | I17: =[1]молоко_всего!E15 -> 1259.9 | J17: =G17/I17*100 -> 134.67736 | K17: =[1]молоко_всего!G15 -> 830 | L17: =[1]молоко_всего!H15 -> 853.8 | M17: =IF(L17=0,0,L17/K17*100) -> 102.86747 | N17: =[1]молоко_всего!J15 -> 616.1 | O17: =L17/N17*100 -> 138.5814
B18: в т.ч. -- обществ.сект. | C18: тонн | D18: месяц | E18: 9000 | F18: =[1]молоко_СПК!B15 -> 1635 | G18: =[1]молоко_СПК!C15 -> 1696.8 | H18: =IF(G18=0,0,G18/F18*100) -> 103.77982 | I18: =[1]молоко_СПК!E15 -> 1259.9 | J18: =G18/I18*100 -> 134.67736 | K18: =[1]молоко_СПК!G15 -> 830 | L18: =[1]молоко_СПК!H15 -> 853.8 | M18: =IF(L18=0,0,L18/K18*100) -> 102.86747 | N18: =[1]молоко_СПК!J15 -> 616.1 | O18: =L18/N18*100 -> 138.5814
B19: -- население | C19: тонн | D19: месяц | F19: =[1]молоко_советы!B16 -> 0 | G19: =[1]молоко_советы!C16 -> 0 | H19: =IF(G19=0,0,G19/F19*100) -> 0 | I19: =[1]молоко_советы!E16 -> 0 | J19: =G19/I19*100 -> #DIV/0! | K19: =[1]молоко_советы!G16 -> 0 | L19: =[1]молоко_советы!H16 -> 0 | M19: =IF(L19=0,0,L19/K19*100) -> 0 | N19: =[1]молоко_советы!J16 -> #REF! | O19: =L19/N19*100 -> #REF!
A20: 5 | B20: Закуп мяса в ж/в- всего: | C20: тонн | D20: месяц | E20: =E21+E22 -> 175 | F20: =F21+F22 -> 17 | G20: =G21+G22 -> 17.6 | H20: =IF(G20=0,0,G20/F20*100) -> 103.52941 | I20: =I21+I22 -> 10.4 | J20: =G20/I20*100 -> 169.23077 | K20: =K21+K22 -> 9 | L20: =L21+L22 -> 9.8 | M20: =IF(L20=0,0,L20/K20*100) -> 108.88889 | N20: =N21+N22 -> 0 | O20: =L20/N20*100 -> #DIV/0!
B21: в т.ч. -- обществ.сект. | C21: тонн | D21: месяц | E21: 175 | F21: =[1]мясо_СПК!B14 -> 17 | G21: =[1]мясо_СПК!C14 -> 17.4 | H21: =IF(G21=0,0,G21/F21*100) -> 102.35294 | I21: =[1]мясо_СПК!E14 -> 10.4 | J21: =G21/I21*100 -> 167.30769 | K21: =[1]мясо_СПК!G14 -> 9 | L21: =[1]мясо_СПК!H14 -> 9.6 | M21: =IF(L21=0,0,L21/K21*100) -> 106.66667 | N21: =[1]мясо_СПК!J14 -> 0 | O21: =L21/N21*100 -> #DIV/0!
B22: -- население | C22: тонн | D22: месяц | F22: =[1]мясо_советы!B15 -> 0 | G22: =[1]мясо_советы!C15 -> 0.2 | I22: =[1]мясо_советы!E15 -> 0 | J22: =G22/I22*100 -> #DIV/0! | K22: =[1]мясо_советы!G15 -> 0 | L22: =[1]мясо_советы!H15 -> 0.2 | M22: =L22/K22*100 -> #DIV/0! | N22: =[1]мясо_советы!J15 -> 0 | O22: =L22/N22*100 -> #DIV/0!
A23: 6 | B23: Сохранность поголовья скота во всех категориях хозяйств в перерасчете на условные головы к уровню 01.01.2020 г. (на 01.03.2020 г.) | C23: % | D23: месяц | E23: 100 | F23: ='[1]сохран.погол. во всех катег.'!C15 -> 100 | G23: ='[1]сохран.погол. во всех катег.'!D15 -> 102.2 | H23: =G23/F23*100 -> 102.2
B24: Сохранность поголовья скота в сельскохозяйственных организациях в перерасчете на условные головы к уровню прошлого года (на 01.03.2020 г.) | C24: % | D24: месяц | E24: 100 | F24: ='[1]сохран.погол. в сель.хоз.'!C15 -> 100 | G24: ='[1]сохран.погол. в сель.хоз.'!D15 -> 113.9 | H24: =G24/F24*100 -> 113.9
A25: 7 | B25: Объем отгруж. товаров собственного производства: | C25: тыс. руб. | D25: месяц | E25: =E26+E27 -> 13268 | F25: =F26+F27 -> 2760 | G25: =G26+G27 -> 2977.2 | H25: =G25/F25*100 -> 107.86957 | I25: =I26+I27 -> 1303.4 | J25: =G25/I25*100 -> 228.41798 | K25: =K26+K27 -> 1316 | L25: =L26+L27 -> 1470.4 | M25: =L25/K25*100 -> 111.73252 | N25: =N26+N27 -> 639.4 | O25: =L25/N25*100 -> 229.96559
B26: МУП "Жилищник" | C26: тыс. руб. | D26: месяц | E26: 5386 | F26: 1149 | G26: 1247.2 | H26: =G26/F26% -> 108.54656 | I26: 1303.4 | J26: =G26/I26*100 -> 95.6882 | K26: 562 | L26: 632.4 | M26: =L26/K26% -> 112.52669 | N26: 639.4 | O26: =L26/N26% -> 98.905224
B27: Большеигнатовский РЭС | C27: тыс. руб. | D27: месяц | E27: 7882 | F27: 1611 | G27: 1730 | H27: =G27/F27% -> 107.38672 | J27: =G27/I27*100 -> #DIV/0! | K27: 754 | L27: 838 | M27: =L27/K27% -> 111.14058 | O27: =L27/N27% -> #DIV/0!
A28: 8 | B28: Общая площадь введенного в эксплуатацию жилья с учетом индивидуального жилищного строительства | C28: кв.м. | D28: квартал | E28: 520 | H28: =G28/F28*100 -> #DIV/0! | I28: 0 | J28: =G28/I28*100 -> #DIV/0! | K28: 0
A29: 9 | B29: Объем инвестиций в основной капитал (за исключением бюджетных средств) | C29: тыс. руб. | D29: квартал | E29: 46000 | H29: =G29/F29*100 -> #DIV/0! | J29: =G29/I29*100 -> #DIV/0!
A30: 10 | B30: Численность жителей старше 14 лет, зарегистрированных в ЕСИА | C30: чел. | D30: квартал | H30: =G30/F30*100 -> #DIV/0! | J30: =G30/I30*100 -> #DIV/0!
A31: 11 | B31: Численность безработных граждан, зарегистрированных в органах службы занятости на конец отчетного периода к концу предыдущего года | C31: чел. | D31: квартал | F31: 74 | G31: 81 | H31: =F31/G31*100 -> 91.358025
A32: 10 | B32: Темп роста среднемесячной номинальной начисленной заработной платы по крупным и средним предприятиям на 01.03.2020 г. | C32: % | D32: месяц | E32: 109 | F32: 109 | G32: 111.7 | H32: =G32/F32*100 -> 102.47706
A33: 11 | B33: Проведение информационно-разъяснительной работы среди населения о необходимости участия собственников жилья в реализации программы "Переселение граждан из аварийного жилищного фонда капитального ремонта МКД, в том числе с участием средств НО "Республиканский Фонд капитального ремонта МКД" | C33: не менее 1 публикации в СМИ в квартал | D33: квартал | E33: 4 | H33: =G33/F33*100 -> #DIV/0!
A34: 12 | B34: Проведение информационно-разъяснительной работы среди населения о необходимости оплаты взносов за кап.ремонт общего имущества МКД и жилого фонда" | C34: не менее 1 публикации в СМИ в квартал | D34: квартал | E34: 4 | H34: =G34/F34*100 -> #DIV/0!
