Workbook
Name F_date: [1]Лист3!$B$107
Name F_year: [1]Лист3!$B$108

Sheet Результаты
A1: Информация
A2: о численности зарегистрированных безработных и уровне безработицы в разрезе муниципальных районов Республики Мордовия по состоянию на 1 августа 2021 года
A3: Наименование муниципальных районов | B3: Числен-ность безра-ботных на 01.01.21, человек | C3: Числен-ность безра-ботных на 01.07.21, человек | D3: Числен-ность безра-ботных на 01.08.21, человек | E3: Измене- ния за месяц, человек | F3: Темп роста к преды-дущему месяцу, % | G3: Измене-ния с начала года, человек | H3: Темп роста к началу года, % | I3: Уровень безрабо-тицы к эконом. активн. насел., % | J3: Заявленная потребность в работниках на конец месяца, единиц | K3: Напря-женность на одну вакансию, человек | L3: Трудоуст-ройство ищущих работу граждан, человек | M3: Уровень трудоуст-ройства (в % к обратившимся в поиске работы) | O3: Незанятые на конец | P3: обратилось за период | Q3: Нашли работу (доходное занятие), человек
A4: Ардатовский | B4: 167 | C4: 117 | D4: 109 | E4: =D4-C4 -> -8 | F4: =D4/C4*100 -> 93.162393 | G4: =D4-B4 -> -58 | H4: =D4/B4*100 -> 65.269461 | I4: =[2]Ур.безр.!D3 -> 0.80472499 | J4: 216 | K4: =O4/J4 -> 0.56944444 | L4: 62 | M4: =L4/P4*100 -> 70.454545 | O4: 123 | P4: 88
A5: Атюрьевский | B5: 88 | C5: 64 | D5: 65 | E5: =D5-C5 -> 1 | F5: =D5/C5*100 -> 101.5625 | G5: =D5-B5 -> -23 | H5: =D5/B5*100 -> 73.863636 | I5: =[2]Ур.безр.!D4 -> 1.1699064 | J5: 143 | K5: =O5/J5 -> 0.46853147 | L5: 60 | M5: =L5/P5*100 -> 122.44898 | O5: 67 | P5: 49
A6: Атяшевский | B6: 114 | C6: 89 | D6: 91 | E6: =D6-C6 -> 2 | F6: =D6/C6*100 -> 102.24719 | G6: =D6-B6 -> -23 | H6: =D6/B6*100 -> 79.824561 | I6: =[2]Ур.безр.!D5 -> 0.87474767 | J6: 189 | K6: =O6/J6 -> 0.51322751 | L6: 65 | M6: =L6/P6*100 -> 84.415584 | O6: 97 | P6: 77
A7: Большеберезниковский | B7: 67 | C7: 98 | D7: 90 | E7: =D7-C7 -> -8 | F7: =D7/C7*100 -> 91.836735 | G7: =D7-B7 -> 23 | H7: =D7/B7*100 -> 134.32836 | I7: =[2]Ур.безр.!D6 -> 1.3679891 | J7: 121 | K7: =O7/J7 -> 0.78512397 | L7: 32 | M7: =L7/P7*100 -> 94.117647 | O7: 95 | P7: 34
A8: Большеигнатовский | B8: 106 | C8: 72 | D8: 76 | E8: =D8-C8 -> 4 | F8: =D8/C8*100 -> 105.55556 | G8: =D8-B8 -> -30 | H8: =D8/B8*100 -> 71.698113 | I8: =[2]Ур.безр.!D7 -> 1.6173654 | J8: 81 | K8: =O8/J8 -> 0.98765432 | L8: 21 | M8: =L8/P8*100 -> 65.625 | O8: 80 | P8: 32
A9: Дубенский | B9: 119 | C9: 91 | D9: 90 | E9: =D9-C9 -> -1 | F9: =D9/C9*100 -> 98.901099 | G9: =D9-B9 -> -29 | H9: =D9/B9*100 -> 75.630252 | I9: =[2]Ур.безр.!D8 -> 1.3679891 | J9: 110 | K9: =O9/J9 -> 0.97272727 | L9: 45 | M9: =L9/P9*100 -> 132.35294 | O9: 107 | P9: 34
A10: Ельниковский | B10: 111 | C10: 72 | D10: 64 | E10: =D10-C10 -> -8 | F10: =D10/C10*100 -> 88.888889 | G10: =D10-B10 -> -47 | H10: =D10/B10*100 -> 57.657658 | I10: =[2]Ур.безр.!D9 -> 1.1347518 | J10: 102 | K10: =O10/J10 -> 0.67647059 | L10: 40 | M10: =L10/P10*100 -> 190.47619 | O10: 69 | P10: 21
A11: Зубово-Полянский | B11: 484 | C11: 378 | D11: 417 | E11: =D11-C11 -> 39 | F11: =D11/C11*100 -> 110.31746 | G11: =D11-B11 -> -67 | H11: =D11/B11*100 -> 86.157025 | I11: =[2]Ур.безр.!D10 -> 1.4339752 | J11: 712 | K11: =O11/J11 -> 0.63764045 | L11: 124 | M11: =L11/P11*100 -> 55.357143 | O11: 454 | P11: 224
A12: Инсарский | B12: 112 | C12: 56 | D12: 56 | E12: =D12-C12 -> 0 | F12: =D12/C12*100 -> 100 | G12: =D12-B12 -> -56 | H12: =D12/B12*100 -> 50 | I12: =[2]Ур.безр.!D11 -> 0.81716037 | J12: 91 | K12: =O12/J12 -> 0.84615385 | L12: 62 | M12: =L12/P12*100 -> 91.176471 | O12: 77 | P12: 68
A13: Ичалковский | B13: 114 | C13: 97 | D13: 93 | E13: =D13-C13 -> -4 | F13: =D13/C13*100 -> 95.876289 | G13: =D13-B13 -> -21 | H13: =D13/B13*100 -> 81.578947 | I13: =[2]Ур.безр.!D12 -> 0.93816201 | J13: 238 | K13: =O13/J13 -> 0.5 | L13: 100 | M13: =L13/P13*100 -> 84.745763 | O13: 119 | P13: 118
A14: Кадошкинский | B14: 52 | C14: 43 | D14: 47 | E14: =D14-C14 -> 4 | F14: =D14/C14*100 -> 109.30233 | G14: =D14-B14 -> -5 | H14: =D14/B14*100 -> 90.384615 | I14: =[2]Ур.безр.!D13 -> 1.1027687 | J14: 152 | K14: =O14/J14 -> 0.47368421 | L14: 56 | M14: =L14/P14*100 -> 73.684211 | O14: 72 | P14: 76
A15: Ковылкинский | B15: 350 | C15: 214 | D15: 211 | E15: =D15-C15 -> -3 | F15: =D15/C15*100 -> 98.598131 | G15: =D15-B15 -> -139 | H15: =D15/B15*100 -> 60.285714 | I15: =[2]Ур.безр.!D14 -> 1.0445545 | J15: 405 | K15: =O15/J15 -> 0.65185185 | L15: 92 | M15: =L15/P15*100 -> 89.320388 | O15: 264 | P15: 103
... A26: ГО Саранск | B26: 6931 | C26: 1802 | D26: 1626 | E26: =D26-C26 -> -176 | F26: =D26/C26*100 -> 90.233074 | G26: =D26-B26 -> -5305 | H26: =D26/B26*100 -> 23.459818 | I26: =[2]Ур.безр.!D25 -> 1.0076222 | J26: 4327 | K26: =O26/J26 -> 0.46406286 | L26: 497 | M26: =L26/P26*100 -> 50 | O26: 2008 | P26: 994
A27: В С Е Г О : | B27: =SUM(B4:B26) -> 11175 | C27: 4432 | D27: =SUM(D4:D26) -> 4258 | E27: =SUM(E4:E26) -> -174 | F27: =D27/C27*100 -> 96.074007 | G27: =SUM(G4:G26) -> -6917 | H27: =D27/B27*100 -> 38.102908 | I27: =[2]Ур.безр.!D26 -> 1.0543258 | J27: =SUM(J4:J26) -> 9629 | K27: =O27/J27 -> 0.54533181 | L27: =SUM(L4:L26) -> 2038 | M27: =L27/P27*100 -> 67.888075 | O27: =SUM(O4:O26) -> 5251 | P27: =SUM(P4:P26) -> 3002 | Q27: =SUM(Q4:Q26) -> 0

Sheet Лист1
