Workbook

Sheet функ 6
D2: Приложение 6
B3: к Проекту решения Совета депутатов Большеигнатовского муниципального района Республики Мордовия | C3: к решению Совета депутатов
B4: Большеигнатовского муниципального района
D5: Республики Мордовия
B6: «О бюджете Большеигнатовского муниципального района
A7: Республики Мордовия на 2021 год и плановый период 2022 и 2023 годов"
G9: от 02.11.2021 г № 24
A10: Распределение бюджетных ассигнований бюджета Большеигнатовского муниципального района по разделам, подразделам, целевым статьям (муниципальным программам и непрограммным направлениям деятельности), группам (группам и подгруппам) видов расходов классификации расходов бюджета Большеигнатовского муниципального района на 2021 год и на плановый период 2022 и 2023 годов
A11: тыс.руб.
A12: Наименование | B12: РЗ | C12: ПРЗ | D12: ЦСР | H12: ВР | I12: 2021 год | K12: 2022 год | L12: 2023 год
A13: 1 | B13: 2 | C13: 3 | D13: 4 | H13: 5 | I13: 6 | K13: 7 | L13: 8
A14: Всего | I14: =I15+I248+I280+I351+I415+I492+I547+I592+I601+I608+I616+I631+78 -> 254264.01 | J14: =J15+J248+J280+J351+J415+J492+J547+J592+J601+J608+J616+J631 -> #REF! | K14: =K15+K248+K280+K351+K415+K492+K547+K592+K601+K608+K616+K631 -> 121659.6 | L14: =L15+L248+L280+L351+L415+L492+L547+L592+L601+L608+L616+L631 -> 101151.6
A15: Общегосударственные вопросы | B15: 01 | I15: =I16+I24+I126+I132+I171+I177+I157 -> 24933.7 | J15: =J16+J24+J126+J132+J171+J177+J157 -> #REF! | K15: =K16+K24+K126+K132+K171+K177+K157 -> 18313.8 | L15: =L16+L24+L126+L132+L171+L177+L157 -> 20004.7
A16: Функционирование высшего должностного лица субъекта Российской Федерации и муниципального образования | B16: 01 | C16: 02 | I16: =I18 -> 1064.3 | J16: =J18 -> 1219.3 | K16: =K18 -> 1219.3 | L16: =L18 -> 1219.3
A17: Обеспечение деятельности Администрации Большеигнатовского муниципального района Республики Мордовия | B17: 01 | C17: 02 | D17: 65 0 | I17: =I18 -> 1064.3 | J17: =J18 -> 1219.3 | K17: =K18 -> 1219.3 | L17: =L18 -> 1219.3
A18: Глава Большеигнатовского муниципального района | B18: 01 | C18: 02 | D18: 65 1 00 | I18: =I19 -> 1064.3 | J18: =J19 -> 1219.3 | K18: =K19 -> 1219.3 | L18: =L19 -> 1219.3
A19: Расходы на выплаты по оплате труда высшего должностного лица | B19: 01 | C19: 02 | D19: 65 1 00 41150 | I19: =I20 -> 1064.3 | J19: =J20 -> 1219.3 | K19: =K20 -> 1219.3 | L19: =L20 -> 1219.3
A20: Расходы на выплаты персоналу в целях обеспечения выполнения функций государственными (муниципальными) органами, казенными учреждениями, органами управления государственными внебюджетными фондами | B20: 01 | C20: 02 | D20: 65 1 00 41150 | H20: 100 | I20: =I21 -> 1064.3 | J20: =J21 -> 1219.3 | K20: =K21 -> 1219.3 | L20: =L21 -> 1219.3
A21: Расходы на выплаты персоналу государственных (муниципальных) органов | B21: 01 | C21: 02 | D21: 65 1 00 41150 | H21: 120 | I21: =I22+I23 -> 1064.3 | J21: =J22+J23 -> 1219.3 | K21: =K22+K23 -> 1219.3 | L21: =L22+L23 -> 1219.3
A22: Фонд оплаты труда государственных (муниципальных) органов | B22: 01 | C22: 02 | D22: 65 1 00 41150 | H22: 121 | I22: =924.6+12-150-5 -> 781.6 | J22: 936.6 | K22: =924.6+12 -> 936.6 | L22: 936.6
A23: Взносы по обязательному социальному страхованию на выплаты денежного содержания и иные выплаты работникам государственных (муниципальных) органов | B23: 01 | C23: 02 | D23: 65 1 00 41150 | H23: 129 | I23: =279.2+3.5 -> 282.7 | J23: 282.7 | K23: =279.2+3.5 -> 282.7 | L23: 282.7
A24: Функционирование Правительства Российской Федерации, высших органов исполнительной власти субъектов Российской Федерации, местных администраций | B24: 01 | C24: 04 | I24: =I25+I31++I45+I64+I78+I101+I39 -> 11662.9 | J24: =J25+J31++J45+J64+J78+J101 -> #REF! | K24: =K25+K31++K45+K64+K78+K101 -> 6896.6 | L24: =L25+L31++L45+L64+L78+L101 -> 8510.2
A25: Муниципальная программа «Развитие муниципальной службы в Большеигнатовском муниципальном районе(2015-2024 годы)» | B25: 01 | C25: 04 | D25: 01 | I25: =I26 -> 28 | J25: =J26 -> 0 | K25: =K26 -> 28 | L25: =L26 -> 28
A26: Основное мероприятие "Повышение квалификации муниципальных служащих" | B26: 01 | C26: 04 | D26: 01 0 01 | I26: =I27 -> 28 | J26: =J27 -> 0 | K26: =K27 -> 28 | L26: =L27 -> 28
A27: Подготовка, переподготовка и повышение квалификации кадров | B27: 01 | C27: 04 | D27: 01 0 01 41250 | I27: =I28 -> 28 | J27: =J28 -> 0 | K27: =K28 -> 28 | L27: =L28 -> 28
A28: Расходы на выплаты персоналу в целях обеспечения выполнения функций государственными (муниципальными) органами, казенными учреждениями, органами управления государственными внебюджетными фондами | B28: 01 | C28: 04 | D28: 01 0 01 41250 | H28: 100 | I28: =I29 -> 28 | J28: =J29 -> 0 | K28: =K29 -> 28 | L28: =L29 -> 28
A29: Расходы на выплаты персоналу государственных (муниципальных) органов | B29: 01 | C29: 04 | D29: 01 0 01 41250 | H29: 120 | I29: 28 | K29: 28 | L29: 28
A30: Иные выплаты персоналу государственных (муниципальных) органов, за исключением фонда оплаты труда | B30: 01 | C30: 04 | D30: 01 0 01 41250 | H30: 122 | I30: 28 | K30: 28 | L30: 28
A31: Муниципальная программа «Развитие образования в Большеигнатовском муниципальном районе Республики Мордовия на 2015-2025 годы" | B31: 01 | C31: 04 | D31: 02 0 | I31: =I32 -> 56.1 | J31: =J32 -> 56 | K31: =K32 -> 56.2 | L31: =L32 -> 56.3
A32: Подпрограмма «Обеспечение реализации муниципальной программы «Развитие образования в Большеигнатовском муниципальном районе на 2015 - 2025 годы" и прочие мероприятия в области образования | B32: 01 | C32: 04 | D32: 02 3 | I32: =I33 -> 56.1 | J32: =J33 -> 56 | K32: =K33 -> 56.2 | L32: =L33 -> 56.3
A33: Основное мероприятие «Обеспечение реализации государственных полномочий переданных органам местного самоуправления по опеке и попечительству» | B33: 01 | C33: 04 | D33: 02 3 02 | I33: =I34 -> 56.1 | J33: =J34 -> 56 | K33: =K34 -> 56.2 | L33: =L34 -> 56.3
A34: Осуществление государственных полномочий Республики Мордовия по организации и осуществлению деятельности по опеке и попечительству в отношении несовершеннолетних граждан, проживающих на территории Республики Мордовия | B34: 01 | C34: 04 | D34: 02 3 02 77550 | I34: =I35 -> 56.1 | J34: =J35 -> 56 | K34: =K35 -> 56.2 | L34: =L35 -> 56.3
A35: Расходы на выплаты персоналу в целях обеспечения выполнения функций государственными (муниципальными) органами, казенными учреждениями, органами управления государственными внебюджетными фондами | B35: 01 | C35: 04 | D35: 02 3 02 77550 | H35: 100 | I35: =I36 -> 56.1 | J35: =J36 -> 56 | K35: =K36 -> 56.2 | L35: =L36 -> 56.3
A36: Расходы на выплаты персоналу государственных (муниципальных) органов | B36: 01 | C36: 04 | D36: 02 3 02 77550 | H36: 120 | I36: 56.1 | J36: 56 | K36: 56.2 | L36: 56.3
A37: Фонд оплаты труда государственных (муниципальных) органов | B37: 01 | C37: 04 | D37: 02 3 02 77550 | H37: 121 | I37: 42.8 | K37: 42.9 | L37: 43
A38: Взносы по обязательному социальному страхованию на выплаты денежного содержания и иные выплаты работникам государственных (муниципальных) органов | B38: 01 | C38: 04 | D38: 02 3 02 77550 | H38: 129 | I38: 13 | K38: 13 | L38: 13
A39: Муниципальная программа "Жилище" на 2015-2023 годы по Большеигнатовскому муниципальному району Республики Мордовия | B39: 01 | C39: 04 | D39: 04 0 | I39: =I40 -> 10.7 | K39: 0 | L39: 0
A40: Подпрограмма «Обеспечение детей-сирот и детей, оставшихся без попечения родителей, лиц из числа детей-сирот и детей, оставшихся без попечения родителей, жилыми помещениями специализированного жилищного фонда» | B40: 01 | C40: 04 | D40: 04 3 00 | I40: =I41 -> 10.7 | K40: 0 | L40: 0
A41: Основное мероприятие "Обеспечение жильем детей- сирот, оставшихся без попечения родителей, лиц из числа детей-сирот и детей, оставшихся без попечения родителей, жилыми помещениями специализированного жилищного фонда" | B41: 01 | C41: 04 | D41: 04 3 01 | I41: =I42 -> 10.7 | K41: 0 | L41: 0
A42: Осуществление государственных полномочий Республики Мордовия по обеспечению детей-сирот и детей, оставшихся без попечения родителей, лиц из числа детей-сирот и детей, оставшихся без попечения родителей, жилыми помещениями специализированного жилищного фонда | B42: 01 | C42: 04 | D42: 04 3 01 Z0820 | I42: =I43 -> 10.7 | K42: 0 | L42: 0
...

Sheet ведомст 7
D1: Приложение 7
B2: к Проекту решения Совета депутатов Большеигнатовского муниципального района Республики Мордовия | D2: к решению Совета депутатов
B3: Большеигнатовского муниципального района
A4: «О бюджете Большеигнатовского муниципального района
B5: Республики Мордовия на 2021 год и плановый период 2022 и 2023 годов"
F7: от 02.11.2021 г № 24
A9: Ведомственная структура расходов бюджета Большеигнатовского | O9: 900
A10: муниципального района Республики Мордовия на 2021 год и на плановый период 2022 и 2023 годов
A13: Наименование | B13: Адм | C13: Рз | D13: ПРз | E13: ЦСР | I13: ВР | J13: сумма | K13: 2015 год | L13: 2021 год | M13: 2022 год | N13: 2023
K14: сумма
A15: 1 | B15: 2 | C15: 3 | D15: 4 | E15: 5 | I15: 6 | L15: 8 | M15: 9 | N15: 9
A16: ВСЕГО | K16: =K17+K435 -> #REF! | L16: =L17+L435+L556 -> 254264.01 | M16: =M17+M435+M556 -> 121659.6 | N16: =N17+N435+N556 -> 101151.6
A17: Администрация Большеигнатовского муниципального района Республики Мордовия | B17: 900 | K17: =K18+K217+K236+K329+K388+K428 -> #REF! | L17: =L18+L217+L236+L328+L371+L388+L427 -> 131394.72 | M17: =M18+M217+M236+M328+M371+M388+M427 -> 51077.9 | N17: =N18+N217+N236+N328+N371+N388+N427 -> 34009.7
A18: Общегосударственные вопросы | B18: 900 | C18: 01 | K18: =K26+K126+K138 -> #REF! | L18: =L19+L27+L120+L138+L144+L127 -> 17119.2 | M18: =M19+M27+M120+M138+M144 -> 10883.3 | N18: =N19+N27+N120+N138+N144 -> 12571.2
A19: Функционирование высшего должностного лица субъекта Российской Федерации и муниципального образования | B19: 900 | C19: 01 | D19: 02 | L19: =L20 -> 1064.3 | M19: =M20 -> 1219.3 | N19: =N20 -> 1219.3
A20: Обеспечение деятельности Администрации Большеигнатовского муниципального района Республики Мордовия | B20: 900 | C20: 01 | D20: 02 | E20: 65 0 | K20: =#REF! -> #REF! | L20: =L21 -> 1064.3 | M20: =M21 -> 1219.3 | N20: =N21 -> 1219.3
A21: Глава Большеигнатовского муниципального района Республики Мордовия | B21: 900 | C21: 01 | D21: 02 | E21: 65 1 00 | L21: =L22 -> 1064.3 | M21: =M22 -> 1219.3 | N21: =N22 -> 1219.3
A22: Расходы на выплаты по оплате труда высшего должностного лица | B22: 900 | C22: 01 | D22: 02 | E22: 65 1 00 41150 | L22: =L25+L26 -> 1064.3 | M22: =M25+M26 -> 1219.3 | N22: =N25+N26 -> 1219.3
A23: Расходы на выплаты персоналу в целях обеспечения выполнения функций государственными (муниципальными) органами, казенными учреждениями, органами управления государственными внебюджетными фондами | B23: 900 | C23: 01 | D23: 02 | E23: 65 1 00 41150 | I23: 100 | L23: =L24 -> 1064.3 | M23: =M24 -> 1219.3 | N23: =N24 -> 1219.3
A24: Расходы на выплаты персоналу государственных (муниципальных) органов | B24: 900 | C24: 01 | D24: 02 | E24: 65 1 00 41150 | I24: 120 | L24: =L25+L26 -> 1064.3 | M24: =M25+M26 -> 1219.3 | N24: =N25+N26 -> 1219.3
A25: Фонд оплаты труда государственных (муниципальных) органов | B25: 900 | C25: 01 | D25: 02 | E25: 65 1 00 41150 | I25: 121 | L25: =924.6+12-150-5 -> 781.6 | M25: 936.6 | N25: =924.6+12 -> 936.6 | Q25: -150
A26: Взносы по обязательному социальному страхованию на выплаты денежного содержания и иные выплаты работникам государственных (муниципальных) органов | B26: 900 | C26: 01 | D26: 02 | E26: 65 1 00 41150 | I26: 129 | L26: =279.2+3.5 -> 282.7 | M26: 282.7 | N26: =279.2+3.5 -> 282.7
A27: Функционирование Правительства Российской Федерации, высших исполнительных органов государственной власти субъектов Российской Федерации, местных администраций | B27: 900 | C27: 01 | D27: 04 | L27: =L28+L39+L58+L72+L95+L33 -> 10077.9 | M27: =M28+M39+M58+M72+M95 -> 5404.5 | N27: =N28+N39+N58+N72+N95 -> 7015.1
A28: Муниципальная программа «Развитие муниципальной службы в Большеигнатовском муниципальном районе(2015-2024 годы)» | B28: 900 | C28: 01 | D28: 04 | E28: 01 0 | L28: =L29 -> 25 | M28: =M29 -> 25 | N28: =N29 -> 25
A29: Основное мероприятие "Повышение квалификации муниципальных служащих" | B29: 900 | C29: 01 | D29: 04 | E29: 01 0 01 | L29: =L30 -> 25 | M29: =M30 -> 25 | N29: =N30 -> 25
A30: Подготовка, переподготовка и повышение квалификации кадров | B30: 900 | C30: 01 | D30: 04 | E30: 01 0 01 41250 | L30: =L31 -> 25 | M30: =M31 -> 25 | N30: =N31 -> 25
A31: Расходы на выплаты персоналу в целях обеспечения выполнения функций государственными (муниципальными) органами, казенными учреждениями, органами управления государственными внебюджетными фондами | B31: 900 | C31: 01 | D31: 04 | E31: 01 0 01 41250 | I31: 100 | L31: =L32 -> 25 | M31: =M32 -> 25 | N31: =N32 -> 25
A32: Расходы на выплаты персоналу государственных (муниципальных) органов | B32: 900 | C32: 01 | D32: 04 | E32: 01 0 01 41250 | I32: 120 | L32: 25 | M32: 25 | N32: 25
A33: Муниципальная программа "Жилище" на 2015-2023 годы по Большеигнатовскому муниципальному району Республики Мордовия | B33: 900 | C33: 01 | D33: 04 | E33: 04 0 | L33: =L34 -> 10.7 | M33: 0 | N33: 0
A34: Подпрограмма «Обеспечение детей-сирот и детей, оставшихся без попечения родителей, лиц из числа детей-сирот и детей, оставшихся без попечения родителей, жилыми помещениями специализированного жилищного фонда» | B34: 900 | C34: 01 | D34: 04 | E34: 04 3 00 | L34: =L35 -> 10.7 | M34: 0 | N34: 0
A35: Основное мероприятие "Обеспечение жильем детей- сирот, оставшихся без попечения родителей, лиц из числа детей-сирот и детей, оставшихся без попечения родителей, жилыми помещениями специализированного жилищного фонда" | B35: 900 | C35: 01 | D35: 04 | E35: 04 3 01 | L35: =L36 -> 10.7 | M35: 0 | N35: 0
A36: Осуществление государственных полномочий Республики Мордовия по обеспечению детей-сирот и детей, оставшихся без попечения родителей, лиц из числа детей-сирот и детей, оставшихся без попечения родителей, жилыми помещениями специализированного жилищного фонда | B36: 900 | C36: 01 | D36: 04 | E36: 04 3 01 Z0820 | L36: =L37 -> 10.7 | M36: 0 | N36: 0
A37: Расходы на выплаты персоналу в целях обеспечения выполнения функций государственными (муниципальными) органами, казенными учреждениями, органами управления государственными внебюджетными фондами | B37: 900 | C37: 01 | D37: 04 | E37: 04 3 01 Z0820 | I37: 100 | L37: =L38 -> 10.7 | M37: 0 | N37: 0
A38: Расходы на выплаты персоналу государственных (муниципальных) органов | B38: 900 | C38: 01 | D38: 04 | E38: 04 3 01 Z0820 | I38: 120 | L38: 10.7 | M38: 0 | N38: 0
A39: Муниципальная программа Большеигнатовского муниципального района "Цифровая трансформация Большеигнатовского муниципального района Республики Мордовия на 2021-2024 годы" | B39: 900 | C39: 01 | D39: 04 | E39: 18 0 | L39: =L43+L48+L52+L56 -> 276 | M39: =M43+M48+M52+M56 -> 216 | N39: =N43+N48+N52+N56 -> 216
A40: Подпрограмма "Информационная инфраструктура" | B40: 900 | C40: 01 | D40: 04 | E40: 18 1
A41: Основное мероприятие "Создание, развитие и эксплуатация структурированных кабельных сетей (локально вычислительных сетей) и телекоммуникационных сервисов в местах размещения органов местного самоуправления" | B41: 900 | C41: 01 | D41: 04 | E41: 18 1 01 | L41: =L42 -> 222.2 | M41: =M42 -> 127 | N41: =N42 -> 127
A42: Мероприятия в области формирования информационного общества | B42: 900 | C42: 01 | D42: 04 | E42: 18 1 01 42070 | L42: =L43 -> 222.2 | M42: =M43 -> 127 | N42: =N43 -> 127
A43: Закупка товаров, работ и услуг для обеспечения государственных (муниципальных) нужд | B43: 900 | C43: 01 | D43: 04 | E43: 18 1 01 42070 | I43: 200 | L43: =L44 -> 222.2 | M43: =M44 -> 127 | N43: =N44 -> 127
A44: Иные закупки товаров, работ и услуг для обеспечения государственных (муниципальных) нужд | B44: 900 | C44: 01 | D44: 04 | E44: 18 1 01 42070 | I44: 240 | L44: =127+60+35.2 -> 222.2 | M44: 127 | N44: 127
...

Sheet прил 8
E2: Приложение 8
C3: к проекту решения Совета депутатов Большеигнатовского
D4: к решению Совета депутатов
C5: Большеигнатовского муниципального района Республики Мордовия
B6: «О бюджете Большеигнатовского муниципального района
A7: Республики Мордовия на 2021 год и плановый период 2022 и 2023 годов"
A9: от 02.11.2021 года № 24
A10: Распределение бюджетных ассигнований бюджета Большеигнатовского муниципального района по целевым статьям (государственным программам, муниципальным программам и непрограммным направлениям деятельности), группам (группам и подгруппам) видов расходов классификации расходов бюджетов, а также по разделам и подразделам классификации расходов бюджета Большеигнатовского муниципального района на 2021 год и на плановый период 2022 и 2023 годов
A11: тыс.руб.
A12: Наименование | B12: ЦСР | F12: ВР | G12: Рз | H12: ПРз | I12: Адм | J12: 2021 год | K12: 2017 год | L12: 2022 год | M12: 2023 год
A13: 1 | B13: 2 | G13: 3 | H13: 4 | I13: 5 | J13: 6 | L13: 7 | M13: 8
A14: Всего | J14: =J16+J32+J185+J200+J243+J316+J324+J332+J365+J386+J422+J481+J536+J566+J594+J655+J663+J679+J719-13+2.6-6.7+3.2 -> 254264.01 | K14: =K16+K32+K185+K200+K243+K316+K324+K332+K365+K386+K422+K481+K536+K566+K594+K655+K663+K679+K719 -> #REF! | L14: =L16+L32+L185+L200+L243+L316+L324+L332+L365+L386+L422+L481+L536+L566+L594+L655+L663+L679+L719-1+1034.9-33.9-1001.1 -> 121659.6 | M14: =M16+M32+M185+M200+M243+M316+M324+M332+M365+M386+M422+M481+M536+M566+M594+M655+M663+M679+M719-97.8+1001.5-0.4+99.8+0.1-1001.1 -> 101151.6
N15: пустую строку удалить
A16: Муниципальная программа «Развитие муниципальной службы в Большеигнатовском муниципальном районе(2015-2024 годы)» | B16: 01 0 | J16: =J17 -> 30 | K16: =K17 -> 0 | L16: =L17 -> 30 | M16: =M17 -> 30
A17: Основное мероприятие "Повышение квалификации муниципальных служащих" | B17: 01 0 01 | J17: =J18 -> 30 | K17: =K18 -> 0 | L17: =L18 -> 30 | M17: =M18 -> 30
A18: Подготовка, переподготовка и повышение квалификации кадров | B18: 01 0 01 41250 | J18: =J19 -> 30 | K18: =K19 -> 0 | L18: =L19 -> 30 | M18: =M19 -> 30
A19: Расходы на выплаты персоналу в целях обеспечения выполнения функций государственными (муниципальными) органами, казенными учреждениями, органами управления государственными внебюджетными фондами | B19: 01 0 01 41250 | F19: 100 | J19: =J20 -> 30 | K19: =K20 -> 0 | L19: =L20 -> 30 | M19: =M20 -> 30
A20: Расходы на выплаты персоналу государственных (муниципальных) органов | B20: 01 0 01 41250 | F20: 120 | J20: =J21 -> 30 | K20: =K21 -> 0 | L20: =L21 -> 30 | M20: =M21 -> 30
A21: Общегосударственные вопросы | B21: 01 0 01 41250 | F21: 120 | G21: 01 | J21: =J22+J31 -> 30 | K21: =K22+K31 -> 0 | L21: =L22+L31 -> 30 | M21: =M22+M31 -> 30
A22: Функционирование Правительства Российской Федерации, высших исполнительных органов государственной власти субъектов Российской Федерации, местных администраций | B22: 01 0 01 41250 | F22: 120 | G22: 01 | H22: 04 | J22: =J23+J24+J25 -> 28 | K22: =K23+K24+K25 -> 0 | L22: =L23+L24+L25 -> 28 | M22: =M23+M24+M25 -> 28
A23: Администрация Большеигнатовского муниципального района Республики Мордовия | B23: 01 0 01 41250 | F23: 120 | G23: 01 | H23: 04 | I23: 900 | J23: 25 | L23: 25 | M23: 25
A25: Управление по социальной работе Администрации Большеигнатовского муниципального района Республики Мордовия | B25: 01 0 01 41250 | F25: 120 | G25: 01 | H25: 04 | I25: 926 | J25: 3 | L25: 3 | M25: 3
A26: Подготовка, переподготовка и повышение квалификации кадров | B26: 01 0 01 41250 | J26: =J27 -> 2 | K26: =K27 -> 0 | L26: =L27 -> 2 | M26: =M27 -> 2
A27: Расходы на выплаты персоналу в целях обеспечения выполнения функций государственными (муниципальными) органами, казенными учреждениями, органами управления государственными внебюджетными фондами | B27: 01 0 01 41250 | F27: 100 | J27: =J28 -> 2 | K27: =K28 -> 0 | L27: =L28 -> 2 | M27: =M28 -> 2
A28: Расходы на выплаты персоналу государственных (муниципальных) органов | B28: 01 0 01 41250 | F28: 120 | J28: =J29 -> 2 | K28: =K29 -> 0 | L28: =L29 -> 2 | M28: =M29 -> 2
A29: Общегосударственные вопросы | B29: 01 0 01 41250 | F29: 120 | G29: 01 | J29: =J30 -> 2 | K29: =K30 -> 0 | L29: =L30 -> 2 | M29: =M30 -> 2
A30: Обеспечение деятельности финансовых, налоговых и таможенных органов и органов финансового (финансово-бюджетного) надзора | B30: 01 0 01 41250 | F30: 120 | G30: 01 | H30: 06 | J30: =J31 -> 2 | K30: =K31 -> 0 | L30: =L31 -> 2 | M30: =M31 -> 2
A31: Финансовое управление Администрации Большеигнатовского муниципального района Республики Мордовия | B31: 01 0 01 41250 | F31: 120 | G31: 01 | H31: 06 | I31: 901 | J31: 2 | L31: 2 | M31: 2
A32: Муниципальная программа «Развитие образования в Большеигнатовском муниципальном районе Республики Мордовия на 2015-2025 годы" | B32: 02 0 | J32: =J33+J137+J166 -> 83567.893 | K32: =K33+K137+K166 -> 50292.2 | L32: =L33+L137+L166 -> 59281.6 | M32: =M33+M137+M166 -> 56334.3
A33: Подпрограмма "Развитие системы дошкольного, общего и дополнительного образования детей в Большеигнатовском муниципальном районе РМ на 2015-2025 г." | B33: 02 1 | J33: =J34+J47+J96+J123+J109+J136 -> 78786.593 | K33: =K34+K47+K96+K123 -> 45819.6 | L33: =L34+L47+L96+L123+L109 -> 54676.1 | M33: =M34+M47+M96+M123+M109 -> 51728.7
A34: Основное мероприятие «Развитие дошкольного образования» | B34: 02 1 01 | J34: =J35+J41 -> 8249.8 | K34: =K35+K41 -> 5343.2 | L34: =L35+L41 -> 5343.2 | M34: =M35+M41 -> 4859.8
A35: Дошкольные образовательные организации | B35: 02 1 01 61100 | J35: =J36 -> 1877.7 | K35: =K36 -> 748.8 | L35: =L36 -> 748.8 | M35: =M36 -> 748.8
A36: Предоставление субсидий бюджетным, автономным учреждениям и иным некоммерческим организациям | B36: 02 1 01 61100 | F36: 600 | J36: =J37 -> 1877.7 | K36: =K37 -> 748.8 | L36: =L37 -> 748.8 | M36: =M37 -> 748.8
A37: Субсидии бюджетным учреждениям | B37: 02 1 01 61100 | F37: 610 | J37: =J38 -> 1877.7 | K37: =K38 -> 748.8 | L37: =L38 -> 748.8 | M37: =M38 -> 748.8
A38: Образование | B38: 02 1 01 61100 | F38: 610 | G38: 07 | J38: =J39 -> 1877.7 | K38: =K39 -> 748.8 | L38: =L39 -> 748.8 | M38: =M39 -> 748.8
A39: Дошкольное образование | B39: 02 1 01 61100 | F39: 610 | G39: 07 | H39: 01 | J39: =J40 -> 1877.7 | K39: =K40 -> 748.8 | L39: =L40 -> 748.8 | M39: =M40 -> 748.8
A40: Управление по социальной работе Администрации Большеигнатовского муниципального района Республики Мордовия | B40: 02 1 01 61100 | F40: 610 | G40: 07 | H40: 01 | I40: 926 | J40: ='ведомст 7'!L629 -> 1877.7 | K40: ='ведомст 7'!M629 -> 748.8 | L40: ='ведомст 7'!N629 -> 748.8 | M40: ='ведомст 7'!N629 -> 748.8
A41: Осуществление государственных полномочий Республики Мордовия по обеспечению государственных гарантий реализации прав на получение общедоступного и бесплатного дошкольного образования в муниципальных дошкольных образовательных организациях, в муниципальных общеобразовательных организациях, включая расходы на оплату труда, приобретение учебников и учебных пособий, средств обучения, игр, игрушек (за исключением расходов на содержание зданий и оплату коммунальных услуг) | B41: 02 1 01 77090 | J41: =J42 -> 6372.1 | K41: =K42 -> 4594.4 | L41: =L42 -> 4594.4 | M41: =M42 -> 4111
A42: Предоставление субсидий бюджетным, автономным учреждениям и иным некоммерческим организациям | B42: 02 1 01 77090 | F42: 600 | J42: =J43 -> 6372.1 | K42: =K43 -> 4594.4 | L42: =L43 -> 4594.4 | M42: =M43 -> 4111
A43: Субсидии бюджетным учреждениям | B43: 02 1 01 77090 | F43: 610 | J43: =J44 -> 6372.1 | K43: =K44 -> 4594.4 | L43: =L44 -> 4594.4 | M43: =M44 -> 4111
...

Sheet источн.10
C3: Приложение10
B5: к решению Совета депутатов Большеигнатовского муниципального района
B6: района Республики Мордовия
B7: «О бюджете Большеигнатовского муниципального района
A8: Республики Мордовия на 2021 год и плановый период 2022 и 2023 годов"
B10: от 02.11.2021 г № 24
A12: Источники внутреннего финансирования дефицита бюджета Большеигнатовского муниципального района Республики Мордовия на 2021 год и на плановый период 2022 и 2023 годов
A14: Код | B14: Наименование | C14: 2021 год | E14: 2022 год | F14: 2023 год
A17: 1 | B17: 2 | C17: 4
A18: 000 01 00 00 00 00 0000 000 | B18: ИСТОЧНИКИ ВНУТРЕННЕГО ФИНАНСИРОВАНИЯ ДЕФИЦИТА БЮДЖЕТА | C18: =C31+C29+C40 -> 4186.8 | D18: =D31+D40+D30 -> 0 | E18: =E31+E40+E30 -> 224.8 | F18: =F31+F40+F30 -> 587.7 | H18: =C18-C31 -> 2024.6 | I18: =(H18/20685.2) -> 0.097876743
A19: 000 01 02 00 00 00 0000 000 | B19: Кредиты кредитных организаций в валюте Российской Федерации | C19: 0 | E19: 0 | F19: 0
A20: 000 01 02 00 00 00 0000 700 | B20: Получение кредитов от кредитных организаций в валюте Российской Федерации | C20: 0 | E20: 0 | F20: 0
A21: 000 01 02 00 00 05 0000 710 | B21: Получение кредитов от кредитных организаций бюджетами муниципальных районов в валюте Российской Федерации | C21: 0 | E21: 0 | F21: 0
A22: 000 01 02 00 00 00 0000 800 | B22: Погашение кредитов предоставленных кредитными организациями в валюте Российской Федерации | C22: 0 | E22: 0 | F22: 0
A23: 000 01 02 00 00 05 0000 810 | B23: Погашение кредитов предоставленных бюджету муниципального района кредитными организациями в валюте Российской Федерации | C23: 0 | E23: 0 | F23: 0
A24: 000 01 03 00 00 00 0000 000 | B24: Бюджетные кредиты из других бюджетов бюджетной системы Российской Федерации | C24: =C29 -> -1537.6 | D24: =D29 -> 0 | E24: =E29 -> -875.2 | F24: =F29 -> -1312.8
A25: 000 01 03 01 00 00 0000 000 | B25: Бюджетные кредиты из других бюджетов бюджетной системы Российской Федерации в валюте Российской Федерации | C25: =C26 -> 0 | D25: =D26 -> 0 | E25: =E26 -> 0 | F25: =F26 -> 0
A26: 000 01 03 01 00 00 0000 700 | B26: Получение бюджетных кредитов из других бюджетов бюджетной системы Российской Федерации в валюте Российской Федерации | C26: =C27 -> 0 | D26: =D27 -> 0 | E26: =E27 -> 0 | F26: =F27 -> 0
A27: 000 01 03 01 00 05 0000 710 | B27: Привлечение кредитов из других бюджетов бюджетной системы Российской Федерации бюджетами городских округов в валюте Российской Федерации | C27: 0 | E27: 0 | F27: 0
A29: 000 01 03 01 00 00 0000 800 | B29: Погашение бюджетных кредитов, полученных из других бюджетов бюджетной системы Российской Федерации в валюте Российской Федерации | C29: =C30 -> -1537.6 | D29: =D30 -> 0 | E29: =E30 -> -875.2 | F29: =F30 -> -1312.8
A30: 000 01 03 01 00 05 0000 810 | B30: Погашение бюджетами муниципальных районов кредитов из других бюджетов бюджетной системы Российской Федерации в валюте Российской Федерации | C30: -1537.6 | E30: -875.2 | F30: -1312.8 | H30: 437,6+1000
A31: 000 01 05 00 00 00 0000 000 | B31: Изменение остатков средств на счетах по учету средств бюджетов | C31: =C35+C39 -> 2162.2 | D31: =D35+D39 -> 0 | E31: =E35+E39 -> 0 | F31: =F35+F39 -> 0
A32: 000 01 05 00 00 00 0000 500 | B32: Увеличение остатков средств бюджетов | C32: =C33 -> -253639.4 | D32: =D33 -> 0 | E32: =E33 -> -122534.8 | F32: =F33 -> -102464.4
A33: 000 01 05 02 00 00 0000 500 | B33: Увеличение прочих остатков средств бюджетов | C33: =C34 -> -253639.4 | D33: =D34 -> 0 | E33: =E34 -> -122534.8 | F33: =F34 -> -102464.4 | H33: 250077,2+3562,2 | I33: =250077.2+3562.2 -> 253639.4
A34: 000 01 05 02 01 00 0000 510 | B34: Увеличение прочих остатков денежных средств бюджетов | C34: =C35 -> -253639.4 | D34: =D35 -> 0 | E34: =E35 -> -122534.8 | F34: =F35 -> -102464.4
A35: 000 01 05 02 01 05 0000 510 | B35: Увеличение прочих остатков денежных средств бюджетов муниципальных районов | C35: -253639.4 | E35: -122534.8 | F35: -102464.4
A36: 000 01 05 00 00 00 0000 600 | B36: Уменьшение остатков средств бюджетов | C36: =C37 -> 255801.6 | D36: =D37 -> 0 | E36: =E37 -> 122534.8 | F36: =F37 -> 102464.4
A37: 000 01 05 02 00 00 0000 600 | B37: Уменьшение прочих остатков средств бюджетов | C37: =C38 -> 255801.6 | D37: =D38 -> 0 | E37: =E38 -> 122534.8 | F37: =F38 -> 102464.4
A38: 000 01 05 02 01 00 0000 610 | B38: Уменьшение прочих остатков денежных средств бюджетов | C38: =C39 -> 255801.6 | D38: =D39 -> 0 | E38: =E39 -> 122534.8 | F38: =F39 -> 102464.4
A39: 000 01 05 02 01 05 0000 610 | B39: Уменьшение прочих остатков денежных средств бюджетов муниципальных районов | C39: =255814-1550+1537.6 -> 255801.6 | E39: 122534.8 | F39: 102464.4 | H39: 255814,0+437,6 | I39: =255814-1000+1937.6 -> 256751.6
A40: 000 01 06 05 00 00 0000 000 | B40: Бюджетные кредиты, предоставленные внутри страны в валюте Российской Федерации | C40: =C41 -> 3562.2 | D40: =D41 -> 0 | E40: =E41 -> 1100 | F40: =F41 -> 1900.5
A41: 000 01 06 05 00 00 0000 600 | B41: Возврат бюджетных кредитов, предоставленных внутри страны в валюте Российской Федерации | C41: =C44 -> 3562.2 | D41: =D43 -> 0 | E41: 1100 | F41: 1900.5
A42: 000 01 06 05 02 00 0000 600 | B42: Возврат бюджетных кредитов, предоставленных другим бюджетам бюджетной системы Российской Федерации в валюте Российской Федерации | C42: =C43 -> 3562.2 | D42: =D43 -> 0 | E42: =E43 -> 1100 | F42: =F43 -> 1900.5
A43: 000 01 06 05 02 00 2600 640 | B43: Возврат бюджетных кредитов, предоставленных другим бюджетам бюджетной системы Российской Федерации в валюте Российской Федерации | C43: =C44 -> 3562.2 | D43: =D44 -> 0 | E43: 1100 | F43: 1900.5
A44: 000 01 06 05 02 05 0000 640 | B44: Возврат бюджетных кредитов, предоставленных другим бюджетам бюджетной системы Российской Федерации из бюджетов муниципальных районов в валюте Российской Федерации | C44: =2062.2+1500 -> 3562.2 | E44: 1100 | F44: 1900.5
A45: 000 01 06 05 00 00 2600 500 | B45: Предоставление бюджетных кредитов внутри страны в валюте Российской Федерации | C45: =C46 -> 0 | E45: 0 | F45: 0
A46: 000 01 06 05 02 05 0000 540 | B46: Предоставление бюджетных кредитов другим бюджетам бюджетной системы Российской Федерации из бюджетов муниципальных районов в валюте Российской Федерации | C46: 0 | E46: 0 | F46: 0
A47: 000 01 00 00 00 00 0000 000 | B47: Итого источников внутреннего финансирования дефицита республиканского бюджета | C47: =C18 -> 4186.8 | D47: =D18 -> 0 | E47: =E18 -> 224.8 | F47: =F18 -> 587.7
H93: =#REF!+#REF!+#REF! -> #REF!
G112: =#REF!+#REF!+#REF! -> #REF!
...
