Workbook

Sheet общ с форм
B7: ИТОГИ
B8: социально-экономического развития Большеигнатовского района за январь-август 2021 года
A9: № | B9: Наименование показателя | C9: Ед.изм. | D9: Период | E9: План на 2021 год | F9: С начала года | K9: =[1]собст_д_ды!G4 -> в т.ч. август
F10: план | G10: факт | H10: % | I10: 2020 | J10: темп роста | K10: план | L10: факт | M10: % | N10: 2020 | O10: темп роста
A14: 1 | B14: Собственные доходы - всего: | C14: тыс. руб. | D14: месяц | E14: 26245.6 | F14: =[1]собст_д_ды!B18 -> 16140.5 | G14: =[1]собст_д_ды!C18 -> 22549.6 | H14: =IF(G14=0,0,G14/F14*100) -> 139.70819 | I14: =[1]собст_д_ды!E18 -> 16769.2 | J14: =G14/I14*100 -> 134.47034 | K14: =[1]собст_д_ды!G18 -> 2198.2 | L14: =[1]собст_д_ды!H18 -> 2153.7 | M14: =IF(L14=0,0,L14/K14*100) -> 97.975616 | N14: =[1]собст_д_ды!J18 -> 2467.6 | O14: =L14/N14*100 -> 87.279138
A15: 2 | B15: Розничный товарооборот во всех каналах реализации | C15: тыс. руб. | D15: месяц | E15: 345923 | F15: =[1]Розн_т_об!B14 -> 272321 | G15: =[1]Розн_т_об!C14 -> 260217 | H15: =IF(G15=0,0,G15/F15*100) -> 95.555245 | I15: =[1]Розн_т_об!E14 -> 257775 | J15: =G15/I15*100 -> 100.94734 | K15: =[1]Розн_т_об!G14 -> 39651 | L15: =[1]Розн_т_об!H14 -> 37828 | M15: =IF(L15=0,0,L15/K15*100) -> 95.402386 | N15: =[1]Розн_т_об!J14 -> 36678 | O15: =L15/N15*100 -> 103.13539
A16: 3 | B16: Производство молока в общественном секторе | C16: тонн | D16: месяц | E16: 12270 | F16: ='[1]Производ.молоко_всего '!B14 -> 8773 | G16: ='[1]Производ.молоко_всего '!C14 -> 7497.9 | H16: =IF(G16=0,0,G16/F16*100) -> 85.465633 | I16: ='[1]Производ.молоко_всего '!E14 -> 8088.5 | J16: =G16/I16*100 -> 92.698275 | K16: ='[1]Производ.молоко_всего '!G14 -> 1095 | L16: ='[1]Производ.молоко_всего '!H14 -> 937.8 | M16: =IF(L16=0,0,L16/K16*100) -> 85.643836 | N16: ='[1]Производ.молоко_всего '!J14 -> 1006.9 | O16: =L16/N16*100 -> 93.137352
A17: 4 | B17: Производство мяса в общественном секторе | C17: тонн | D17: месяц | E17: 504 | F17: ='[1]Производство мяса_всего'!B14 -> 319 | G17: ='[1]Производство мяса_всего'!C14 -> 388.8 | H17: =IF(G17=0,0,G17/F17*100) -> 121.88088 | I17: ='[1]Производство мяса_всего'!E14 -> 308.7 | J17: =G17/I17*100 -> 125.94752 | K17: ='[1]Производство мяса_всего'!G14 -> 30 | L17: ='[1]Производство мяса_всего'!H14 -> 39.7 | M17: =IF(L17=0,0,L17/K17*100) -> 132.33333 | N17: ='[1]Производство мяса_всего'!J14 -> 29.1 | O17: =L17/N17*100 -> 136.42612
A18: 5 | B18: Сохранность поголовья скота во всех категориях хозяйств в перерасчете на условные головы к уровню 01.01.2021 г. (на 01.09.2021 г.) | C18: % | D18: месяц | E18: 100 | F18: ='[1]сохран.погол. во всех катег.'!C14 -> 100 | G18: ='[1]сохран.погол. во всех катег.'!D14 -> 96.3 | H18: =G18/F18*100 -> 96.3
A19: 6 | B19: Сохранность поголовья скота в сельскохозяйственных организациях в перерасчете на условные головы к уровню прошлого года (на 01.09.2021 г.) | C19: % | D19: месяц | E19: 100 | F19: ='[1]сохран.погол. в сель.хоз.'!C14 -> 100 | G19: ='[1]сохран.погол. в сель.хоз.'!D14 -> 94.7 | H19: =G19/F19*100 -> 94.7
A20: 7 | B20: Объем отгруж. товаров собственного производства: | C20: тыс. руб. | D20: месяц | E20: =E22 -> 8990 | F20: =F22 -> 9428 | G20: =G22 -> 5969 | H20: =H22 -> 63.311413 | I20: =I22 -> 5593 | J20: =J22 -> 106.72269 | K20: =K22 -> 857 | L20: =L22 -> 607 | ... O20: =O22 -> 89.660266
B21: МУП "Жилищник" | C21: тыс. руб. | D21: месяц | E21: 5820 | F21: 2189 | H21: =G21/F21% -> 0 | I21: 1746.2 | J21: =G21/I21*100 -> 0 | K21: 780 | M21: =L21/K21% -> 0 | N21: 499 | O21: =L21/N21% -> 0
B22: Большеигнатовский РЭС | C22: тыс. руб. | D22: месяц | E22: 8990 | F22: 9428 | G22: 5969 | H22: =G22/F22% -> 63.311413 | I22: 5593 | J22: =G22/I22*100 -> 106.72269 | K22: 857 | L22: 607 | M22: =L22/K22% -> 70.828471 | N22: 677 | O22: =L22/N22% -> 89.660266
A23: 8 | B23: Общая площадь введенного в эксплуатацию жилья с учетом индивидуального жилищного строительства | C23: кв.м. | D23: квартал | E23: 500 | F23: 160 | G23: 0 | H23: =G23/F23*100 -> 0 | I23: 120.4 | J23: =G23/I23*100 -> 0 | K23: 0 | L23: 0
A24: 9 | B24: Объем инвестиций в основной капитал (за исключением бюджетных средств) | C24: тыс. руб. | D24: квартал | E24: 397380 | F24: 103690 | G24: 57055 | H24: =G24/F24*100 -> 55.024593 | I24: 24401 | J24: =G24/I24*100 -> 233.82238
A25: 10 | B25: Темп роста среднемесячной номинальной начисленной заработной платы по крупным и средним предприятиям на 01.09.2021 г. | C25: % | D25: месяц | E25: 113 | F25: 113 | G25: 109.8 | H25: =G25/F25*100 -> 97.168142 | J25: =G25/I25*100 -> #DIV/0!
A26: 11 | B26: Проведение информационно-разъяснительной работы среди населения о необходимости участия собственников жилья в реализации программы "Переселение граждан из аварийного жилищного фонда капитального ремонта МКД, в том числе с участием средств НО "Республиканский Фонд капитального ремонта МКД" | C26: не менее 1 публикации в СМИ в квартал | D26: квартал | E26: 4 | F26: 1 | G26: 1 | H26: =G26/F26*100 -> 100
A27: 12 | B27: Проведение информационно-разъяснительной работы среди населения о необходимости оплаты взносов за кап.ремонт общего имущества МКД и жилого фонда" | C27: не менее 1 публикации в СМИ в квартал | D27: квартал | E27: 4 | F27: 1 | G27: 1 | H27: =G27/F27*100 -> 100
