Workbook

Sheet ведомст 3
D1: Приложение 3
D2: к Решению Совета депутатов
B3: Большеигнатовского муниципального района Республики Мордовия
A4: «О бюджете Большеигнатовского муниципального района
B5: Республики Мордовия на 2022 год и плановый период 2023 и 2024 годов"
E7: от 28.12.2022 г №
A9: ВЕДОМСТВЕННАЯ СТРУКТУРА РАСХОДОВ БЮДЖЕТА БОЛЬШЕИГНАТОВСКОГО МУНИЦИПАЛЬНОГО РАЙОНА РЕСПУБЛИКИ МОРДОВИЯ НА 2022 ГОД И НА ПЛАНОВЫЙ ПЕРИОД 2023 И 2024 ГОДОВ | N9: 900
I11: (тыс. рублей)
A12: Наименование | B12: Адм | C12: Рз | D12: ПРз | E12: ЦСР | I12: ВР | J12: сумма
J13: 2022 | K13: 2022 год | L13: 2023 год | M13: 2024 год
A14: 1 | B14: 2 | C14: 3 | D14: 4 | E14: 5 | F14: 6 | G14: 7 | H14: 8 | I14: 9 | K14: 11 | M14: 12
A15: ВСЕГО | J15: =J16+J295+J375 -> #REF! | K15: =K16+K295+K375 -> 200543.24 | L15: =L16+L295+L375 -> 111943.7 | M15: =M16+M295+M375 -> 85104.1
A16: Администрация Большеигнатовского муниципального района Республики Мордовия | B16: 900 | J16: =J17+J152+J161+J220+J243+J251+J288 -> #REF! | K16: =K17+K152+K161+K220+K243+K251+K288 -> 78131.54 | L16: =L17+L152+L161+L220+L243+L251+L288 -> 52867.7 | M16: =M17+M152+M161+M220+M243+M251+M288 -> 30253.1
A17: Общегосударственные вопросы | B17: 900 | C17: 01 | J17: =J18+J24+J90+J96+J102 -> #REF! | K17: =K18+K24+K90+K96+K102 -> 21756 | L17: =L18+L24+L90+L96+L102 -> 12547.9 | M17: =M18+M24+M90+M96+M102 -> 12547.9
A18: Функционирование высшего должностного лица субъекта Российской Федерации и муниципального образования | B18: 900 | C18: 01 | D18: 02 | J18: =J19 -> #REF! | K18: =K19 -> 1548.1 | L18: =L19 -> 1219.3 | M18: =M19 -> 1219.3
A19: Обеспечение деятельности Администрации Большеигнатовского муниципального района Республики Мордовия | B19: 900 | C19: 01 | D19: 02 | E19: 65 | J19: =J20 -> #REF! | K19: =K20 -> 1548.1 | L19: =L20 -> 1219.3 | M19: =M20 -> 1219.3
A20: Глава Большеигнатовского муниципального района Республики Мордовия | B20: 900 | C20: 01 | D20: 02 | E20: 65 | F20: 1 | J20: =J21 -> #REF! | K20: =K21 -> 1548.1 | L20: =L21 -> 1219.3 | M20: =M21 -> 1219.3
A21: Расходы на выплаты по оплате труда высшего должностного лица | B21: 900 | C21: 01 | D21: 02 | E21: 65 | F21: 1 | G21: 00 | H21: 41150 | J21: =#REF!+#REF! -> #REF! | K21: =K23 -> 1548.1 | L21: =L23 -> 1219.3 | M21: =M23 -> 1219.3
A22: Расходы на выплаты персоналу в целях обеспечения выполнения функций государственными (муниципальными) органами, казенными учреждениями, органами управления государственными внебюджетными фондами | B22: 900 | C22: 01 | D22: 02 | E22: 65 | F22: 1 | G22: 00 | H22: 41150 | I22: 100 | J22: =J23 -> #REF! | K22: =K23 -> 1548.1 | L22: =L23 -> 1219.3 | M22: =M23 -> 1219.3
A23: Расходы на выплаты персоналу государственных (муниципальных) органов | B23: 900 | C23: 01 | D23: 02 | E23: 65 | F23: 1 | G23: 00 | H23: 41150 | I23: 120 | J23: =#REF!+#REF! -> #REF! | K23: 1548.1 | L23: 1219.3 | M23: 1219.3
A24: Функционирование Правительства Российской Федерации, высших исполнительных органов государственной власти субъектов Российской Федерации, местных администраций | B24: 900 | C24: 01 | D24: 04 | J24: =J25+J36+J47+J56+J71 -> #REF! | K24: =K25+K36+K47+K56+K71+K30 -> 12434.8 | L24: =L25+L36+L47+L56+L71+L30 -> 6993.2 | M24: =M25+M36+M47+M56+M71+M30 -> 6993.2
A25: Муниципальная программа «Развитие муниципальной службы в Большеигнатовском муниципальном районе(2015-2024 годы)» | B25: 900 | C25: 01 | D25: 04 | E25: 01 | J25: =J26 -> 25 | K25: =K26 -> 12 | L25: =L26 -> 25 | M25: =M26 -> 25
A26: Основное мероприятие "Повышение квалификации муниципальных служащих" | B26: 900 | C26: 01 | D26: 04 | E26: 01 | F26: 0 | G26: 01 | J26: =J27 -> 25 | K26: =K27 -> 12 | L26: =L27 -> 25 | M26: =M27 -> 25
A27: Подготовка, переподготовка и повышение квалификации кадров | B27: 900 | C27: 01 | D27: 04 | E27: 01 | F27: 0 | G27: 01 | H27: 41250 | J27: =J28 -> 25 | K27: =K28 -> 12 | L27: =L28 -> 25 | M27: =M28 -> 25
A28: Расходы на выплаты персоналу в целях обеспечения выполнения функций государственными (муниципальными) органами, казенными учреждениями, органами управления государственными внебюджетными фондами | B28: 900 | C28: 01 | D28: 04 | E28: 01 | F28: 0 | G28: 01 | H28: 41250 | I28: 100 | J28: =J29 -> 25 | K28: =K29 -> 12 | L28: =L29 -> 25 | M28: =M29 -> 25
A29: Расходы на выплаты персоналу государственных (муниципальных) органов | B29: 900 | C29: 01 | D29: 04 | E29: 01 | F29: 0 | G29: 01 | H29: 41250 | I29: 120 | J29: 25 | K29: 12 | L29: 25 | M29: 25
A30: Муниципальная программа "Жилище" на 2015-2025 годы" | B30: 900 | C30: 01 | D30: 04 | E30: 04 | K30: =K31 -> 10.7 | L30: =L31 -> 0 | M30: =M31 -> 0
A31: Подпрограмма «Обеспечение детей-сирот и детей, оставшихся без попечения родителей, лиц из числа детей-сирот и детей, оставшихся без попечения родителей, жилыми помещениями специализированного жилищного фонда» | B31: 900 | C31: 01 | D31: 04 | E31: 04 | F31: 3 | K31: =K32 -> 10.7 | L31: =L32 -> 0 | M31: =M32 -> 0
A32: Основное мероприятие "Предоставление жилых помещений детям-сиротам и детям, оставшимся без попечения родителей, лицам из их числа по договорам найма специализированных жилых помещений" | B32: 900 | C32: 01 | D32: 04 | E32: 04 | F32: 3 | G32: 01 | K32: =K33 -> 10.7 | L32: =L33 -> 0 | M32: =M33 -> 0
A33: Осуществление государственных полномочий Республики Мордовия по обеспечению детей-сирот и детей, оставшихся без попечения родителей, лиц из числа детей-сирот и детей, оставшихся без попечения родителей, жилыми помещениями специализированного жилищного фонда | B33: 900 | C33: 01 | D33: 04 | E33: 04 | F33: 3 | G33: 01 | H33: Z0820 | K33: =K34 -> 10.7 | L33: =L34 -> 0 | M33: =M34 -> 0
A34: Расходы на выплаты персоналу в целях обеспечения выполнения функций государственными (муниципальными) органами, казенными учреждениями, органами управления государственными внебюджетными фондами | B34: 900 | C34: 01 | D34: 04 | E34: 04 | F34: 3 | G34: 01 | H34: Z0820 | I34: 100 | K34: =K35 -> 10.7 | L34: =L35 -> 0 | M34: =M35 -> 0
A35: Расходы на выплаты персоналу государственных (муниципальных) органов | B35: 900 | C35: 01 | D35: 04 | E35: 04 | F35: 3 | G35: 01 | H35: Z0820 | I35: 120 | K35: 10.7 | L35: 0 | M35: 0
A36: Муниципальная программа Большеигнатовского муниципального района "Цифровая трансформация Большеигнатовского муниципального района Республики Мордовия на 2021-2024 годы" | B36: 900 | C36: 01 | D36: 04 | E36: 18 | J36: =J40+J45+#REF!+#REF! -> #REF! | K36: =K40+K45 -> 223 | L36: =L40+L45 -> 216 | M36: =M40+M45 -> 216
A37: Подпрограмма "Информационная инфраструктура" | B37: 900 | C37: 01 | D37: 04 | E37: 18 | F37: 1 | K37: =K38 -> 223 | L37: =L38 -> 186 | M37: =M38 -> 186
A38: Основное мероприятие "Создание, развитие и эксплуатация структурированных кабельных сетей (локально вычислительных сетей) и телекоммуникационных сервисов в местах размещения органов местного самоуправления" | B38: 900 | C38: 01 | D38: 04 | E38: 18 | F38: 1 | G38: 01 | J38: =J39 -> 127 | K38: =K39 -> 223 | L38: =L39 -> 186 | M38: =M39 -> 186
A39: Мероприятия в области формирования информационного общества | B39: 900 | C39: 01 | D39: 04 | E39: 18 | F39: 1 | G39: 01 | H39: 42070 | J39: =J40 -> 127 | K39: =K40 -> 223 | L39: =L40 -> 186 | M39: =M40 -> 186
A40: Закупка товаров, работ и услуг для обеспечения государственных (муниципальных) нужд | B40: 900 | C40: 01 | D40: 04 | E40: 18 | F40: 1 | G40: 01 | H40: 42070 | I40: 200 | J40: =J41 -> 127 | K40: =K41 -> 223 | L40: =L41 -> 186 | M40: =M41 -> 186
A41: Иные закупки товаров, работ и услуг для обеспечения государственных (муниципальных) нужд | B41: 900 | C41: 01 | D41: 04 | E41: 18 | F41: 1 | G41: 01 | H41: 42070 | I41: 240 | J41: 127 | K41: 223 | L41: =127+59 -> 186 | M41: =127+59 -> 186
A42: Подпрограмма "Информационная безопасность" | B42: 900 | C42: 01 | D42: 04 | E42: 18 | F42: 2 | J42: =J43 -> 89 | K42: =K43 -> 0 | L42: =L43 -> 30 | M42: =M43 -> 30
A43: Основное мероприятие "Аттестация объектов информатизации на соответствие требованиям по защите информации" | B43: 900 | C43: 01 | D43: 04 | E43: 18 | F43: 2 | G43: 01 | J43: =J44 -> 89 | K43: =K44 -> 0 | L43: =L44 -> 30 | M43: =M44 -> 30
...

Sheet разд.подразд 4
K2: Приложение 4
G3: к решению Совета депутатов Большеигнатовского муниципального района
D4: муниципального района Республики Мордовия
B5: «О бюджете Большеигнатовского муниципального района
A6: Республики Мордовия на 2022 год и плановый период 2023 и 2024 годов"
J7: от 28.12.2022 г №
A9: РАСПРЕДЕЛЕНИЕ БЮДЖЕТНЫХ АССИГНОВАНИЙ БЮДЖЕТА БОЛЬШЕИГНАТОВСКОГО МУНИЦИПАЛЬНОГО РАЙОНА РЕСПУБЛИКИ МОРДОВИЯ ПО РАЗДЕЛАМ, ПОДРАЗДЕЛАМ, ЦЕЛЕВЫМ СТАТЬЯМ (МУНИЦИПАЛЬНЫМ ПРОГРАММАМ И НЕПРОГРАММНЫМ НАПРАВЛЕНИЯМ ДЕЯТЕЛЬНОСТИ), ГРУППАМ И ПОДГРУППАМ ВИДОВ РАСХОДОВ КЛАССИФИКАЦИИ РАСХОДОВ БЮДЖЕТОВ НА 2022 ГОД И НА ПЛАНОВЫЙ ПЕРИОД 2023 И 2024 ГОДОВ
A10: тыс.руб.
A11: Наименование | B11: РЗ | C11: ПРЗ | D11: ЦСР | H11: ВР | I11: сумма (тыс.руб.)
A13: 1 | B13: 2 | C13: 3 | D13: 4 | E13: 5 | F13: 6 | G13: 7 | H13: 8 | I13: 9 | J13: 2022 год | K13: 2023 год | L13: 2024 год
A14: Всего | J14: =J15+J194+J221+J282+J305+J389+J431+J479+J488+J495+J503+J518+2 -> 200543.24 | K14: =K15+K194+K221+K282+K305+K389+K431+K479+K488+K495+K503+K518 -> 111943.7 | L14: =L15+L194+L221+L282+L305+L389+L431+L479+L488+L495+L503+L518 -> 85104.1
A15: Общегосударственные вопросы | B15: 01 | J15: =J16+J22+J94+J100+J119+J125 -> 30588.5 | K15: =K16+K22+K94+K100+K119+K125 -> 19981.5 | L15: =L16+L22+L94+L100+L119+L125 -> 19981.6
A16: Функционирование высшего должностного лица субъекта Российской Федерации и муниципального образования | B16: 01 | C16: 02 | J16: =J18 -> 1548.1 | K16: =K18 -> 1219.3 | L16: =L18 -> 1219.3
A17: Обеспечение деятельности Администрации Большеигнатовского муниципального района Республики Мордовия | B17: 01 | C17: 02 | D17: 65 | J17: =J18 -> 1548.1 | K17: =K18 -> 1219.3 | L17: =L18 -> 1219.3
A18: Глава Большеигнатовского муниципального района | B18: 01 | C18: 02 | D18: 65 | E18: 1 | J18: =J19 -> 1548.1 | K18: =K19 -> 1219.3 | L18: =L19 -> 1219.3
A19: Расходы на выплаты по оплате труда высшего должностного лица | B19: 01 | C19: 02 | D19: 65 | E19: 1 | F19: 00 | G19: 41150 | J19: =J20 -> 1548.1 | K19: =K20 -> 1219.3 | L19: =L20 -> 1219.3
A20: Расходы на выплаты персоналу в целях обеспечения выполнения функций государственными (муниципальными) органами, казенными учреждениями, органами управления государственными внебюджетными фондами | B20: 01 | C20: 02 | D20: 65 | E20: 1 | F20: 00 | G20: 41150 | H20: 100 | J20: =J21 -> 1548.1 | K20: =K21 -> 1219.3 | L20: =L21 -> 1219.3
A21: Расходы на выплаты персоналу государственных (муниципальных) органов | B21: 01 | C21: 02 | D21: 65 | E21: 1 | F21: 00 | G21: 41150 | H21: 120 | J21: ='ведомст 3'!K23 -> 1548.1 | K21: ='ведомст 3'!L23 -> 1219.3 | L21: ='ведомст 3'!M23 -> 1219.3
A22: Функционирование Правительства Российской Федерации, высших органов исполнительной власти субъектов Российской Федерации, местных администраций | B22: 01 | C22: 04 | J22: =J23+J28++J40+J51+J60+J75+J34 -> 14159 | K22: =K23+K28++K40+K51+K60+K75+K34 -> 8488.4 | L22: =L23+L28++L40+L51+L60+L75+L34 -> 8488.5
A23: Муниципальная программа «Развитие муниципальной службы в Большеигнатовском муниципальном районе(2015-2024 годы)» | B23: 01 | C23: 04 | D23: 01 | J23: =J24 -> 12 | K23: =K24 -> 28 | L23: =L24 -> 28
A24: Основное мероприятие "Повышение квалификации муниципальных служащих" | B24: 01 | C24: 04 | D24: 01 | E24: 0 | F24: 01 | J24: =J25 -> 12 | K24: =K25 -> 28 | L24: =L25 -> 28
A25: Подготовка, переподготовка и повышение квалификации кадров | B25: 01 | C25: 04 | D25: 01 | E25: 0 | F25: 01 | G25: 41250 | J25: =J26 -> 12 | K25: =K26 -> 28 | L25: =L26 -> 28
A26: Расходы на выплаты персоналу в целях обеспечения выполнения функций государственными (муниципальными) органами, казенными учреждениями, органами управления государственными внебюджетными фондами | B26: 01 | C26: 04 | D26: 01 | E26: 0 | F26: 01 | G26: 41250 | H26: 100 | J26: =J27 -> 12 | K26: =K27 -> 28 | L26: =L27 -> 28
A27: Расходы на выплаты персоналу государственных (муниципальных) органов | B27: 01 | C27: 04 | D27: 01 | E27: 0 | F27: 01 | G27: 41250 | H27: 120 | J27: ='ведомст 3'!K29+'ведомст 3'!K382 -> 12 | K27: ='ведомст 3'!L29+'ведомст 3'!L382 -> 28 | L27: ='ведомст 3'!M29+'ведомст 3'!M382 -> 28
A28: Муниципальная программа «Развитие образования в Большеигнатовском муниципальном районе Республики Мордовия на 2015-2025 годы" | B28: 01 | C28: 04 | D28: 02 | J28: =J29 -> 56.2 | K28: =K29 -> 56.3 | L28: =L29 -> 56.4
A29: Подпрограмма «Обеспечение реализации муниципальной программы «Развитие образования в Большеигнатовском муниципальном районе на 2015 - 2025 годы" и прочие мероприятия в области образования | B29: 01 | C29: 04 | D29: 02 | E29: 3 | J29: =J30 -> 56.2 | K29: =K30 -> 56.3 | L29: =L30 -> 56.4
A30: Основное мероприятие «Обеспечение реализации государственных полномочий переданных органам местного самоуправления по опеке и попечительству» | B30: 01 | C30: 04 | D30: 02 | E30: 3 | F30: 02 | J30: =J31 -> 56.2 | K30: =K31 -> 56.3 | L30: =L31 -> 56.4
A31: Осуществление государственных полномочий Республики Мордовия по организации и осуществлению деятельности по опеке и попечительству в отношении несовершеннолетних граждан, проживающих на территории Республики Мордовия | B31: 01 | C31: 04 | D31: 02 | E31: 3 | F31: 02 | G31: 77550 | J31: =J32 -> 56.2 | K31: =K32 -> 56.3 | L31: =L32 -> 56.4
A32: Расходы на выплаты персоналу в целях обеспечения выполнения функций государственными (муниципальными) органами, казенными учреждениями, органами управления государственными внебюджетными фондами | B32: 01 | C32: 04 | D32: 02 | E32: 3 | F32: 02 | G32: 77550 | H32: 100 | J32: =J33 -> 56.2 | K32: =K33 -> 56.3 | L32: =L33 -> 56.4
A33: Расходы на выплаты персоналу государственных (муниципальных) органов | B33: 01 | C33: 04 | D33: 02 | E33: 3 | F33: 02 | G33: 77550 | H33: 120 | J33: ='ведомст 3'!K388 -> 56.2 | K33: ='ведомст 3'!L388 -> 56.3 | L33: ='ведомст 3'!M388 -> 56.4
A34: Муниципальная программа "Жилище" на 2015-2025 годы" | B34: 01 | C34: 04 | D34: 04 | J34: ='ведомст 3'!K30 -> 10.7 | K34: ='ведомст 3'!L30 -> 0 | L34: ='ведомст 3'!M30 -> 0
A35: Подпрограмма «Обеспечение детей-сирот и детей, оставшихся без попечения родителей, лиц из числа детей-сирот и детей, оставшихся без попечения родителей, жилыми помещениями специализированного жилищного фонда» | B35: 01 | C35: 04 | D35: 04 | E35: 3 | J35: ='ведомст 3'!K31 -> 10.7 | K35: ='ведомст 3'!L31 -> 0 | L35: ='ведомст 3'!M31 -> 0
A36: Основное мероприятие "Предоставление жилых помещений детям-сиротам и детям, оставшимся без попечения родителей, лицам из их числа по договорам найма специализированных жилых помещений" | B36: 01 | C36: 04 | D36: 04 | E36: 3 | F36: 01 | J36: ='ведомст 3'!K32 -> 10.7 | K36: ='ведомст 3'!L32 -> 0 | L36: ='ведомст 3'!M32 -> 0
A37: Осуществление государственных полномочий Республики Мордовия по обеспечению детей-сирот и детей, оставшихся без попечения родителей, лиц из числа детей-сирот и детей, оставшихся без попечения родителей, жилыми помещениями специализированного жилищного фонда | B37: 01 | C37: 04 | D37: 04 | E37: 3 | F37: 01 | G37: Z0820 | J37: ='ведомст 3'!K33 -> 10.7 | K37: ='ведомст 3'!L33 -> 0 | L37: ='ведомст 3'!M33 -> 0
A38: Расходы на выплаты персоналу в целях обеспечения выполнения функций государственными (муниципальными) органами, казенными учреждениями, органами управления государственными внебюджетными фондами | B38: 01 | C38: 04 | D38: 04 | E38: 3 | F38: 01 | G38: Z0820 | H38: 100 | J38: ='ведомст 3'!K34 -> 10.7 | K38: ='ведомст 3'!L34 -> 0 | L38: ='ведомст 3'!M34 -> 0
A39: Расходы на выплаты персоналу государственных (муниципальных) органов | B39: 01 | C39: 04 | D39: 04 | E39: 3 | F39: 01 | G39: Z0820 | H39: 120 | J39: ='ведомст 3'!K35 -> 10.7 | K39: ='ведомст 3'!L35 -> 0 | L39: ='ведомст 3'!M35 -> 0
A40: Муниципальная программа Большеигнатовского муниципального района "Цифровая трансформация Большеигнатовского муниципального района Республики Мордовия на 2021-2024 годы" | B40: 01 | C40: 04 | D40: 18 | J40: =J42+J46 -> 223 | K40: =K42+K46 -> 216 | L40: =L42+L46 -> 216
A41: Подпрограмма "Информационная инфраструктура" | B41: 01 | C41: 04 | D41: 18 | E41: 1 | J41: =J42 -> 223 | K41: =K42 -> 186 | L41: =L42 -> 186
A42: Основное мероприятие "Создание, развитие и эксплуатация структурированных кабельных сетей (локально вычислительных сетей) и телекоммуникационных сервисов в местах размещения органов местного самоуправления" | B42: 01 | C42: 04 | D42: 18 | E42: 1 | F42: 01 | J42: =J43 -> 223 | K42: =K43 -> 186 | L42: =L43 -> 186
A43: Мероприятия в области формирования информационного общества | B43: 01 | C43: 04 | D43: 18 | E43: 1 | F43: 01 | G43: 42070 | J43: =J44 -> 223 | K43: =K44 -> 186 | L43: =L44 -> 186
...

Sheet цел.ст. 5
I1: Приложение 5 к решению Совета депутатов Большеигнатовского муниципального района Республики Мордовия «О бюджете Большеигнатовского муниципального района Республики Мордовия на 2022 год и на плановый период 2023 и 2024 годов» от 28.12. 2022 г.№
A2: РАСПРЕДЕЛЕНИЕ БЮДЖЕТНЫХ АССИГНОВАНИЙ БЮДЖЕТА БОЛЬШЕИГНАТОВСКОГО МУНИЦИПАЛЬНОГО РАЙОНА РЕСПУБЛИКИ МОРДОВИЯ ПО ЦЕЛЕВЫМ СТАТЬЯМ (МУНИЦИПАЛЬНЫМ ПРОГРАММАМ И НЕПРОГРАММНЫМ НАПРАВЛЕНИЯМ ДЕЯТЕЛЬНОСТИ), ГРУППАМ И ПОДГРУППАМ ВИДОВ РАСХОДОВ, РАЗДЕЛАМ И ПОДРАЗДЕЛАМ КЛАССИФИКАЦИИ РАСХОДОВ БЮДЖЕТОВ НА 2022 ГОД И НА ПЛАНОВЫЙ ПЕРИОД 2023 И 2024 ГОДОВ
I3: (тыс. рублей)
A4: Наименование | B4: ЦСР | F4: ВР | G4: Рз | H4: ПРз | I4: Адм | J4: сумма
J5: 2022 год | K5: 2023 | L5: 2024 год
A6: 1 | B6: 2 | C6: 3 | D6: 4 | E6: 5 | F6: 6 | G6: 7 | H6: 8 | I6: 9 | J6: 11 | L6: 12
A7: Всего | J7: =J8+J19+J175+J190+J283+J291+J299+J331+J352+J483+J521+J537+J553+J584+J623+J576+J219+J381+J427+J499+J545+J561+2 -> 200543.24 | K7: =K8+K19+K175+K190+K283+K291+K299+K331+K352+K483+K521+K537+K553+K584+K623+K576+K219+K381+K427+K499+K545+K561 -> 111943.7 | L7: =L8+L19+L175+L190+L283+L291+L299+L331+L352+L483+L521+L537+L553+L584+L623+L576+L219+L381+L427+L499+L545+L561 -> 85104.1
A8: Муниципальная программа «Развитие муниципальной службы в Большеигнатовском муниципальном районе(2015-2024 годы)» | B8: 01 | J8: =J9 -> 12 | K8: =K9 -> 30 | L8: =L9 -> 30
A9: Основное мероприятие "Повышение квалификации муниципальных служащих" | B9: 01 | C9: 0 | D9: 01 | J9: =J10 -> 12 | K9: =K10 -> 30 | L9: =L10 -> 30
A10: Подготовка, переподготовка и повышение квалификации кадров | B10: 01 | C10: 0 | D10: 01 | E10: 41250 | J10: =J11 -> 12 | K10: =K11 -> 30 | L10: =L11 -> 30
A11: Расходы на выплаты персоналу в целях обеспечения выполнения функций государственными (муниципальными) органами, казенными учреждениями, органами управления государственными внебюджетными фондами | B11: 01 | C11: 0 | D11: 01 | E11: 41250 | F11: 100 | J11: =J12 -> 12 | K11: =K12 -> 30 | L11: =L12 -> 30
A12: Расходы на выплаты персоналу государственных (муниципальных) органов | B12: 01 | C12: 0 | D12: 01 | E12: 41250 | F12: 120 | J12: =J13 -> 12 | K12: =K13 -> 30 | L12: =L13 -> 30
A13: Общегосударственные вопросы | B13: 01 | C13: 0 | D13: 01 | E13: 41250 | F13: 120 | G13: 01 | J13: =J14+J18 -> 12 | K13: =K14+K18 -> 30 | L13: =L14+L18 -> 30
A14: Функционирование Правительства Российской Федерации, высших исполнительных органов государственной власти субъектов Российской Федерации, местных администраций | B14: 01 | C14: 0 | D14: 01 | E14: 41250 | F14: 120 | G14: 01 | H14: 04 | J14: =J15+J16 -> 12 | K14: =K15+K16 -> 28 | L14: =L15+L16 -> 28
A15: Администрация Большеигнатовского муниципального района Республики Мордовия | B15: 01 | C15: 0 | D15: 01 | E15: 41250 | F15: 120 | G15: 01 | H15: 04 | I15: 900 | J15: ='ведомст 3'!K29 -> 12 | K15: ='ведомст 3'!L29 -> 25 | L15: ='ведомст 3'!M29 -> 25
A16: Управление по социальной работе Администрации Большеигнатовского муниципального района Республики Мордовия | B16: 01 | C16: 0 | D16: 01 | E16: 41250 | F16: 120 | G16: 01 | H16: 04 | I16: 926 | J16: ='ведомст 3'!K382 -> 0 | K16: ='ведомст 3'!L382 -> 3 | L16: ='ведомст 3'!M382 -> 3
A17: Обеспечение деятельности финансовых, налоговых и таможенных органов и органов финансового (финансово-бюджетного) надзора | B17: 01 | C17: 0 | D17: 01 | E17: 41250 | F17: 120 | G17: 01 | H17: 06 | J17: =J18 -> 0 | K17: =K18 -> 2 | L17: =L18 -> 2
A18: Финансовое управление Администрации Большеигнатовского муниципального района Республики Мордовия | B18: 01 | C18: 0 | D18: 01 | E18: 41250 | F18: 120 | G18: 01 | H18: 06 | I18: 901 | J18: ='ведомст 3'!K302 -> 0 | K18: ='ведомст 3'!L302 -> 2 | L18: ='ведомст 3'!M302 -> 2
A19: Муниципальная программа «Развитие образования в Большеигнатовском муниципальном районе Республики Мордовия на 2015-2025 годы" | B19: 02 0 | J19: =J20+J122+J156 -> 86715.5 | K19: =K20+K122+K156 -> 45068.3 | L19: =L20+L122+L156 -> 41521.6 | N19: =J27+J33+J40+J64+J70+J76+J81+J88+J101+J107+J114+J129+J135+J148+J155+J163+J167+J174 -> 84471 | O19: =K27+K33+K40+K64+K70+K76+K81+K88+K101+K107+K114+K129+K135+K148+K155+K163+K167+K174 -> 45068.3 | P19: =L27+L33+L40+L64+L70+L76+L81+L88+L101+L107+L114+L129+L135+L148+L155+L163+L167+L174 -> 41521.6 | Q19: =N27+N33+N40+N64+N70+N76+N81+N88+N101+N107+N114+N129+N135+N148+N155+N163+N167+N174 -> 0 | R19: =O27+O33+O40+O64+O70+O76+O81+O88+O101+O107+O114+O129+O135+O148+O155+O163+O167+O174 -> 0 | S19: =P27+P33+P40+P64+P70+P76+P81+P88+P101+P107+P114+P129+P135+P148+P155+P163+P167+P174 -> 0 | T19: =Q27+Q33+Q40+Q64+Q70+Q76+Q81+Q88+Q101+Q107+Q114+Q129+Q135+Q148+Q155+Q163+Q167+Q174 -> 0
A20: Подпрограмма "Развитие системы дошкольного, общего и дополнительного образования детей в Большеигнатовском муниципальном районе РМ на 2015-2025 г." | B20: 02 | C20: 1 | J20: =J21+J34+J95+J108+J115 -> 83417.7 | K20: =K21+K34+K95+K108+K115 -> 41460.8 | L20: =L21+L34+L95+L108+L115 -> 37914
A21: Основное мероприятие «Развитие дошкольного образования» | B21: 02 | C21: 1 | D21: 01 | J21: =J22+J28 -> 7862.7 | K21: =K22+K28 -> 5021.5 | L21: =L22+L28 -> 5043.6
A22: Дошкольные образовательные организации | B22: 02 | C22: 1 | D22: 01 | E22: 61100 | J22: =J23 -> 1470 | K22: =K23 -> 1488.9 | L22: =L23 -> 2248.1
A23: Предоставление субсидий бюджетным, автономным учреждениям и иным некоммерческим организациям | B23: 02 | C23: 1 | D23: 01 | E23: 61100 | F23: 600 | J23: =J24 -> 1470 | K23: =K24 -> 1488.9 | L23: =L24 -> 2248.1
A24: Субсидии бюджетным учреждениям | B24: 02 | C24: 1 | D24: 01 | E24: 61100 | F24: 610 | J24: =J25 -> 1470 | K24: =K25 -> 1488.9 | L24: =L25 -> 2248.1
A25: Образование | B25: 02 | C25: 1 | D25: 01 | E25: 61100 | F25: 610 | G25: 07 | J25: =J26 -> 1470 | K25: =K26 -> 1488.9 | L25: =L26 -> 2248.1
A26: Дошкольное образование | B26: 02 | C26: 1 | D26: 01 | E26: 61100 | F26: 610 | G26: 07 | H26: 01 | J26: =J27 -> 1470 | K26: =K27 -> 1488.9 | L26: =L27 -> 2248.1
A27: Управление по социальной работе Администрации Большеигнатовского муниципального района Республики Мордовия | B27: 02 | C27: 1 | D27: 01 | E27: 61100 | F27: 610 | G27: 07 | H27: 01 | I27: 926 | J27: ='ведомст 3'!K421 -> 1470 | K27: ='ведомст 3'!L421 -> 1488.9 | L27: ='ведомст 3'!M421 -> 2248.1
A28: Осуществление государственных полномочий Республики Мордовия по обеспечению государственных гарантий реализации прав на получение общедоступного и бесплатного дошкольного образования в муниципальных дошкольных образовательных организациях, в муниципальных общеобразовательных организациях, включая расходы на оплату труда, приобретение учебников и учебных пособий, средств обучения, игр, игрушек (за исключением расходов на содержание зданий и оплату коммунальных услуг) | B28: 02 | C28: 1 | D28: 01 | E28: 77090 | J28: =J29 -> 6392.7 | K28: =K29 -> 3532.6 | L28: =L29 -> 2795.5
A29: Предоставление субсидий бюджетным, автономным учреждениям и иным некоммерческим организациям | B29: 02 | C29: 1 | D29: 01 | E29: 77090 | F29: 600 | J29: =J30 -> 6392.7 | K29: =K30 -> 3532.6 | L29: =L30 -> 2795.5
A30: Субсидии бюджетным учреждениям | B30: 02 | C30: 1 | D30: 01 | E30: 77090 | F30: 610 | J30: =J31 -> 6392.7 | K30: =K31 -> 3532.6 | L30: =L31 -> 2795.5
A31: Образование | B31: 02 | C31: 1 | D31: 01 | E31: 77090 | F31: 610 | G31: 07 | J31: =J32 -> 6392.7 | K31: =K32 -> 3532.6 | L31: =L32 -> 2795.5
A32: Дошкольное образование | B32: 02 | C32: 1 | D32: 01 | E32: 77090 | F32: 610 | G32: 07 | H32: 01 | J32: =J33 -> 6392.7 | K32: =K33 -> 3532.6 | L32: =L33 -> 2795.5
A33: Управление по социальной работе Администрации Большеигнатовского муниципального района Республики Мордовия | B33: 02 | C33: 1 | D33: 01 | E33: 77090 | F33: 610 | G33: 07 | H33: 01 | I33: 926 | J33: ='ведомст 3'!K424 -> 6392.7 | K33: ='ведомст 3'!L424 -> 3532.6 | L33: ='ведомст 3'!M424 -> 2795.5
A34: Основное мероприятие «Развитие общего образования» | B34: 02 | C34: 1 | D34: 02 | J34: =J65+J71+J77+J35+J83+J64+J41+J89+J47+J53 -> 64032 | K34: =K65+K71+K77+K35+K83+K64+K41+K89 -> 33736.8 | L34: =L65+L71+L77+L35+L83+L64+L41+L89 -> 28814.9
A35: Организация предоставления бесплатного питания обучающимся с ограниченными возможностями здоровья в муниципальных образовательных организациях, в том числе в случае обучения по медицинским показаниям на дому | B35: 02 | C35: 1 | D35: 02 | E35: 42470 | J35: =J36 -> 150 | K35: =K36 -> 100 | L35: =L36 -> 100
A36: Предоставление субсидий бюджетным, автономным учреждениям и иным некоммерческим организациям | B36: 02 | C36: 1 | D36: 02 | E36: 42470 | F36: 600 | J36: =J37 -> 150 | K36: =K37 -> 100 | L36: =L37 -> 100
A37: Субсидии бюджетным учреждениям | B37: 02 | C37: 1 | D37: 02 | E37: 42470 | F37: 610 | J37: =J38 -> 150 | K37: =K38 -> 100 | L37: =L38 -> 100
A38: Образование | B38: 02 | C38: 1 | D38: 02 | E38: 42470 | F38: 610 | G38: 07 | J38: =J39 -> 150 | K38: =K39 -> 100 | L38: =L39 -> 100
A39: Общее образование | B39: 02 | C39: 1 | D39: 02 | E39: 42470 | F39: 610 | G39: 07 | H39: 02 | J39: =J40 -> 150 | K39: =K40 -> 100 | L39: =L40 -> 100
A40: Управление по социальной работе Администрации Большеигнатовского муниципального района Республики Мордовия | B40: 02 | C40: 1 | D40: 02 | E40: 42470 | F40: 610 | G40: 07 | H40: 02 | I40: 926 | J40: ='ведомст 3'!K431 -> 150 | K40: ='ведомст 3'!L431 -> 100 | L40: ='ведомст 3'!M431 -> 100
...

Sheet прил 6 инвести
C1: Приложение 6
B5: к решению Совета депутатов Большеигнатовского муниципального района
B6: Республики Мордовия
B7: «О бюджете Большеигнатовского муниципального района
A8: Республики Мордовия на 2022 год и плановый период 2023 и 2024 годов"
B10: от 28.12.2022 г. №.
A12: РАСПРЕДЕЛЕНИЕ БЮДЖЕТНЫХ АССИГНОВАНИЙ БЮДЖЕТА БОЛЬШЕИГНАТОВСКОГО МУНИЦИПАЛЬНОГО РАЙОНА РЕСПУБЛИКИ МОРДОВИЯ НА ОСУЩЕСТВЛЕНИЕ БЮДЖЕТНЫХ ИНВЕСТИЦИЙ В ФОРМЕ КАПИТАЛЬНЫХ ВЛОЖЕНИЙ В ОБЪЕКТЫ МУНИЦИПАЛЬНОЙ СОБСТВЕННОСТИ НА 2022 ГОД И НА ПЛАНОВЫЙ ПЕРИОД 2023 И 2024 ГОДОВ
J13: (тыс.рублей)
A14: Наименование | B14: Цср | F14: Рз | G14: Прз | H14: Адм | I14: Сумма
I15: 2022 год | J15: 2023 год | K15: 2024 год
A16: 1 | B16: 2 | C16: 3 | D16: 4 | E16: 5 | F16: 6 | G16: 7 | H16: 8 | I16: 9 | J16: 10 | K16: 11
A17: ВСЕГО | I17: =I18+I25 -> 4572.3 | J17: =J18+J25 -> 0 | K17: =K18+K25 -> 0
A18: Муниципальная программа Большеигнатовского муниципального района Республики Мордовия "Комплексное развитие сельских территорий " на 2020-2025 годы | B18: 22 | I18: =I19 -> 2505.3 | J18: =J19 -> 0 | K18: =K19 -> 0
A19: Строительство (приобретение) жилья, предоставляемого по договору найма жилого помещения | B19: 22 | C19: 1 | D19: 02 | E19: L5762 | F19: 05 | G19: 01 | H19: 900 | I19: ='ведомст 3'!K227 -> 2505.3 | J19: 0 | K19: 0
A25: Муниципальная программа "Жилище" на 2015-2025 годы" | B25: 22 | I25: =I26 -> 2067 | J25: =J26 -> 0 | K25: =K26 -> 0
A26: Осуществление государственных полномочий Республики Мордовия по обеспечению детей-сирот и детей, оставшихся без попечения родителей, лиц из числа детей-сирот и детей, оставшихся без попечения родителей, жилыми помещениями специализированного жилищного фонда | B26: 4 | C26: 3 | D26: 1 | E26: R0820 | F26: 10 | G26: 04 | H26: 900 | I26: 2067 | J26: 0 | K26: 0
H81: =#REF!+#REF!+#REF! -> #REF!
G100: =#REF!+#REF!+#REF! -> #REF!
H119: 50-48
H123: 5
H127: 45
H147: =#REF!+#REF!+#REF!+#REF!+#REF!+#REF!+#REF!+#REF! -> #REF!
H148: =#REF!+#REF!+#REF!+#REF!+#REF!+#REF!+#REF!+#REF! -> #REF!
G161: =#REF!+#REF!+#REF! -> #REF!
H196: =#REF!+#REF!+#REF!+#REF!+#REF! -> #REF! | I196: 672,0+6,2+618,9+298,3
G213: =#REF!+#REF!+#REF!+#REF!+#REF!+#REF!+#REF!+#REF!+#REF! -> #REF!
H221: 3678,5+672,0+6,2
H222: софин на 672,0 (6,2)
H224: добавить
H242: ддт 4118,4+дюсш 6245,3+564,4= | I242: 10928.2
K288: =SUM(K269:K283) -> 0

Sheet прил 7 мб
D2: Приложение 7
A4: к решению Совета депутатов Большеигнатовского
B5: муниципального района Республики Мордовия
A6: «О бюджете Большеигнатовского муниципального района
A7: Республики Мордовия на 2022 год и плановый период 2023 и 2024 годов"
A9: от 28.12.2022 г №
E10: таблица 1
A11: РАСПРЕДЕЛЕНИЕ ДОТАЦИЙ НА ВЫРАВНИВАНИЕ БЮДЖЕТНОЙ ОБЕСПЕЧЕННОСТИ ПОСЕЛЕНИЙ НА 2022 ГОД И НА ПЛАНОВЫЙ ПЕРИОД 2023 И 2024 ГОДОВ
E13: (тыс.руб)
A14: Поселение | B14: сумма
B15: 2022 год | D15: 2023 год | E15: 2024 год
A16: Андреевское сельское поселение | B16: 0.3 | D16: 0.3 | E16: 0.3
A17: Большеигнатовское сельское поселение
A18: Вармазейское сельское поселение | B18: =0.3+0.3 -> 0.6 | D18: 0.6 | E18: 0.6
A19: Горское сельское поселение
A20: Киржеманское сельское поселение | B20: 0.9 | D20: 0.9 | E20: 0.9
A21: Кучкаевское сельское поселение | B21: 0.3 | D21: 0.3 | E21: 0.3
A22: Новобаевское сельское поселение
A23: Новокачаевское сельское поселение
A24: Протасовское сельское поселение | B24: 0.3 | D24: 0.3 | E24: 0.3
A25: Старочамзинское сельское поселение | B25: 0.4 | D25: 0.4 | E25: 0.4
A26: Чукальское сельское поселение | B26: 0.2 | D26: 0.2 | E26: 0.2
A27: ВСЕГО | B27: =SUM(B16:B26) -> 3 | C27: =SUM(C16:C26) -> 0 | D27: =SUM(D16:D26) -> 3 | E27: =SUM(E16:E26) -> 3
E29: таблица 2
A30: РАСПРЕДЕЛЕНИЕ СУБСИДИЙ на софинансирование расходных обязательств по финансовому обеспечению деятельности органов местного самоупровления и муниципальных учреждений Большеигнатовского муниципального района Республики Мордовия НА 2022 ГОД
E31: (тыс.рублей)
A32: Наименование сельских поселений | B32: сумма
A34: Андреевское сельское поселение | B34: 0 | F34: ПУСТЫЕ СТРОКИ, УДАЛИТЬ
A35: Большеигнатовское сельское поселение | B35: 0
A36: Вармазейское сельское поселение | B36: 0
A37: Киржеманское сельское поселение | B37: =549.1+325+259.1 -> 1133.2 | F37: =B37/12 -> 94.433333
A38: Кучкаевское сельское поселение | B38: =3209.1-1000 -> 2209.1 | F38: =B38/12 -> 184.09167
A39: Протасовское сельское поселение | B39: =138.7+60+100+50+50+36 -> 434.7 | F39: =B39/12 -> 36.225
A40: Старочамзинское сельское поселение | B40: =163.3-25 -> 138.3 | F40: =B40/12 -> 11.525
A41: Чукальское сельское поселение | B41: =132-25 -> 107 | F41: =B41/12 -> 8.9166667
A42: ВСЕГО | B42: =B34+B36+B37+B38+B39+B40+B41 -> 4022.3 | F42: =B42/12 -> 335.19167
E43: таблица 3
A44: Распределение иных межбюджетных трансфертов на осуществление полномочий по дорожной деятельности в отношении автомобильных дорог местного значения в границах населенных пунктов поселения и обеспечению безопасности дорожного движения на них, включая создание и обеспечение функционирования парковок (парковочных мест), осуществлению муниципального контроля за сохранностью автомобильных дорог местного значения в границах населенных пунктов поселения, организации дорожного движения, а также осуществлению иных полномочий в области использования автомобильных дорог и осуществления дорожной деятельности в соответствии с законодательством Российской на 2022 год и плановый период 2023 и 2024 годов
E47: тыс.руб.
A48: Поселение | B48: сумма
...
